BEGIN:VCALENDAR
VERSION:2.0
PRODID:-//UHD Bilingual E-Library - ECPv6.15.17.1//NONSGML v1.0//EN
CALSCALE:GREGORIAN
METHOD:PUBLISH
X-WR-CALNAME:UHD Bilingual E-Library
X-ORIGINAL-URL:https://www.bilingualelibrary.org/en
X-WR-CALDESC:Events for UHD Bilingual E-Library
REFRESH-INTERVAL;VALUE=DURATION:PT1H
X-Robots-Tag:noindex
X-PUBLISHED-TTL:PT1H
BEGIN:VTIMEZONE
TZID:America/New_York
BEGIN:DAYLIGHT
TZOFFSETFROM:-0500
TZOFFSETTO:-0400
TZNAME:EDT
DTSTART:20250309T070000
END:DAYLIGHT
BEGIN:STANDARD
TZOFFSETFROM:-0400
TZOFFSETTO:-0500
TZNAME:EST
DTSTART:20251102T060000
END:STANDARD
BEGIN:DAYLIGHT
TZOFFSETFROM:-0500
TZOFFSETTO:-0400
TZNAME:EDT
DTSTART:20260308T070000
END:DAYLIGHT
BEGIN:STANDARD
TZOFFSETFROM:-0400
TZOFFSETTO:-0500
TZNAME:EST
DTSTART:20261101T060000
END:STANDARD
BEGIN:DAYLIGHT
TZOFFSETFROM:-0500
TZOFFSETTO:-0400
TZNAME:EDT
DTSTART:20270314T070000
END:DAYLIGHT
BEGIN:STANDARD
TZOFFSETFROM:-0400
TZOFFSETTO:-0500
TZNAME:EST
DTSTART:20271107T060000
END:STANDARD
END:VTIMEZONE
BEGIN:VEVENT
DTSTART;VALUE=DATE:20260609
DTEND;VALUE=DATE:20260610
DTSTAMP:20260423T182221
CREATED:20260214T011318Z
LAST-MODIFIED:20260314T125019Z
UID:30052-1780963200-1781049599@www.bilingualelibrary.org
SUMMARY:Class #8: Interactive Reading Strategy
DESCRIPTION:Professor: Aida Ulloa \nObjective: Techniques to improve fluency and comprehension. \nWatch on YouTube \nNote: These classes were selected from the library archive and may not follow a specific sequence.
URL:https://www.bilingualelibrary.org/en/classes/class-8-interactive-reading-strategy-2/
CATEGORIES:Spanish Class
END:VEVENT
BEGIN:VEVENT
DTSTART;VALUE=DATE:20260623
DTEND;VALUE=DATE:20260624
DTSTAMP:20260423T182221
CREATED:20260214T011318Z
LAST-MODIFIED:20260314T125019Z
UID:30053-1782172800-1782259199@www.bilingualelibrary.org
SUMMARY:Class #9: Inferential Questions Strategy
DESCRIPTION:Professor: Aida Ulloa \nObjective: Techniques to improve fluency and comprehension. \nWatch on YouTube \nNote: These classes were selected from the library archive and may not follow a specific sequence.
URL:https://www.bilingualelibrary.org/en/classes/class-9-inferential-questions-strategy-2/
CATEGORIES:Spanish Class
END:VEVENT
END:VCALENDAR