BEGIN:VCALENDAR
VERSION:2.0
PRODID:-//UHD Bilingual E-Library - ECPv6.15.17.1//NONSGML v1.0//EN
CALSCALE:GREGORIAN
METHOD:PUBLISH
X-WR-CALNAME:UHD Bilingual E-Library
X-ORIGINAL-URL:https://www.bilingualelibrary.org/en
X-WR-CALDESC:Events for UHD Bilingual E-Library
REFRESH-INTERVAL;VALUE=DURATION:PT1H
X-Robots-Tag:noindex
X-PUBLISHED-TTL:PT1H
BEGIN:VTIMEZONE
TZID:America/New_York
BEGIN:DAYLIGHT
TZOFFSETFROM:-0500
TZOFFSETTO:-0400
TZNAME:EDT
DTSTART:20240310T070000
END:DAYLIGHT
BEGIN:STANDARD
TZOFFSETFROM:-0400
TZOFFSETTO:-0500
TZNAME:EST
DTSTART:20241103T060000
END:STANDARD
BEGIN:DAYLIGHT
TZOFFSETFROM:-0500
TZOFFSETTO:-0400
TZNAME:EDT
DTSTART:20250309T070000
END:DAYLIGHT
BEGIN:STANDARD
TZOFFSETFROM:-0400
TZOFFSETTO:-0500
TZNAME:EST
DTSTART:20251102T060000
END:STANDARD
BEGIN:DAYLIGHT
TZOFFSETFROM:-0500
TZOFFSETTO:-0400
TZNAME:EDT
DTSTART:20260308T070000
END:DAYLIGHT
BEGIN:STANDARD
TZOFFSETFROM:-0400
TZOFFSETTO:-0500
TZNAME:EST
DTSTART:20261101T060000
END:STANDARD
BEGIN:DAYLIGHT
TZOFFSETFROM:-0500
TZOFFSETTO:-0400
TZNAME:EDT
DTSTART:20270314T070000
END:DAYLIGHT
BEGIN:STANDARD
TZOFFSETFROM:-0400
TZOFFSETTO:-0500
TZNAME:EST
DTSTART:20271107T060000
END:STANDARD
END:VTIMEZONE
BEGIN:VEVENT
DTSTART;VALUE=DATE:20260428
DTEND;VALUE=DATE:20260429
DTSTAMP:20260424T114732
CREATED:20260214T011307Z
LAST-MODIFIED:20260314T125018Z
UID:30049-1777334400-1777420799@www.bilingualelibrary.org
SUMMARY:Class #5: Visualization & Summarization Strategy
DESCRIPTION:Professor: Aida Ulloa \nObjective: Techniques to improve fluency and comprehension. \nWatch on YouTube \nNote: These classes were selected from the library archive and may not follow a specific sequence.
URL:https://www.bilingualelibrary.org/en/classes/class-5-visualization-summarization-strategy-2/
CATEGORIES:Spanish Class
END:VEVENT
BEGIN:VEVENT
DTSTART;VALUE=DATE:20260414
DTEND;VALUE=DATE:20260415
DTSTAMP:20260424T114732
CREATED:20260214T011307Z
LAST-MODIFIED:20260314T125015Z
UID:30048-1776124800-1776211199@www.bilingualelibrary.org
SUMMARY:Class #4: Fluency Reading Strategy 2
DESCRIPTION:Professor: Aida Ulloa \nObjective: Techniques to improve fluency and comprehension. \nWatch on YouTube \nNote: These classes were selected from the library archive and may not follow a specific sequence.
URL:https://www.bilingualelibrary.org/en/classes/class-4-fluency-reading-strategy-2-2/
CATEGORIES:Spanish Class
END:VEVENT
BEGIN:VEVENT
DTSTART;VALUE=DATE:20260407
DTEND;VALUE=DATE:20260408
DTSTAMP:20260424T114732
CREATED:20260314T120712Z
LAST-MODIFIED:20260314T125033Z
UID:30178-1775520000-1775606399@www.bilingualelibrary.org
SUMMARY:Reading Club #3: Rosita the Squirrel and Her Magic Acorn
DESCRIPTION:Professor: Aida Ulloa \nObjective: Practice bilingual reading. \nWatch on YouTube \nNote: These classes were selected from the library archive and may not follow a specific sequence.
URL:https://www.bilingualelibrary.org/en/classes/reading-club-3-rosita-the-squirrel-and-her-magic-acorn/
END:VEVENT
BEGIN:VEVENT
DTSTART;VALUE=DATE:20260407
DTEND;VALUE=DATE:20260408
DTSTAMP:20260424T114732
CREATED:20260314T120712Z
LAST-MODIFIED:20260314T125033Z
UID:30179-1775520000-1775606399@www.bilingualelibrary.org
SUMMARY:Reading Club #4: Rosita the Squirrel and Her Magic Acorn
DESCRIPTION:Professor: Aida Ulloa \nObjective: Practice bilingual reading. \nWatch on YouTube \nNote: These classes were selected from the library archive and may not follow a specific sequence.
URL:https://www.bilingualelibrary.org/en/classes/reading-club-4-rosita-the-squirrel-and-her-magic-acorn/
END:VEVENT
BEGIN:VEVENT
DTSTART;VALUE=DATE:20260331
DTEND;VALUE=DATE:20260401
DTSTAMP:20260424T114732
CREATED:20260214T011307Z
LAST-MODIFIED:20260314T125015Z
UID:30047-1774915200-1775001599@www.bilingualelibrary.org
SUMMARY:Class #3: Fluency Reading Strategy 1
DESCRIPTION:Professor: Aida Ulloa \nObjective: Techniques to improve fluency and comprehension. \nWatch on YouTube \nNote: These classes were selected from the library archive and may not follow a specific sequence.
URL:https://www.bilingualelibrary.org/en/classes/class-3-fluency-reading-strategy-1-2/
CATEGORIES:Spanish Class
END:VEVENT
BEGIN:VEVENT
DTSTART;VALUE=DATE:20260324
DTEND;VALUE=DATE:20260325
DTSTAMP:20260424T114732
CREATED:20260314T120712Z
LAST-MODIFIED:20260314T125033Z
UID:30177-1774310400-1774396799@www.bilingualelibrary.org
SUMMARY:Reading Club #2: Princess Gianna and Her Trampoline
DESCRIPTION:Professor: Aida Ulloa \nObjective: Practice bilingual reading. \nWatch on YouTube \nNote: These classes were selected from the library archive and may not follow a specific sequence.
URL:https://www.bilingualelibrary.org/en/classes/reading-club-2-princess-gianna-and-her-trampoline/
END:VEVENT
BEGIN:VEVENT
DTSTART;VALUE=DATE:20260317
DTEND;VALUE=DATE:20260318
DTSTAMP:20260424T114732
CREATED:20260214T011306Z
LAST-MODIFIED:20260314T125015Z
UID:30046-1773705600-1773791999@www.bilingualelibrary.org
SUMMARY:Class #2: Reading Comprehension Strategy
DESCRIPTION:Professor: Aida Ulloa \nObjective: Improve reading fluency and comprehension. \nWatch on YouTube \nNote: These classes were selected from the library archive and may not follow a specific sequence.
URL:https://www.bilingualelibrary.org/en/classes/class-2-reading-comprehension-strategy-2/
CATEGORIES:Spanish Class
END:VEVENT
BEGIN:VEVENT
DTSTART;VALUE=DATE:20260310
DTEND;VALUE=DATE:20260311
DTSTAMP:20260424T114732
CREATED:20260314T120712Z
LAST-MODIFIED:20260314T125033Z
UID:30176-1773100800-1773187199@www.bilingualelibrary.org
SUMMARY:Reading Club #1: Zuri Discovers the UHD Library
DESCRIPTION:Professor: Aida Ulloa \nObjective: Practice bilingual reading. \nWatch on YouTube \nNote: These classes were selected from the library archive and may not follow a specific sequence.
URL:https://www.bilingualelibrary.org/en/classes/reading-club-1-zuri-discovers-the-uhd-library/
END:VEVENT
BEGIN:VEVENT
DTSTART;VALUE=DATE:20260303
DTEND;VALUE=DATE:20260304
DTSTAMP:20260424T114732
CREATED:20260214T011306Z
LAST-MODIFIED:20260314T125015Z
UID:30045-1772496000-1772582399@www.bilingualelibrary.org
SUMMARY:Class #1: Reading Comprehension Strategy
DESCRIPTION:Professor: Aida Ulloa \nObjective: Practice prediction using stories. \nWatch on YouTube \nNote: These classes were selected from the library archive and may not follow a specific sequence.
URL:https://www.bilingualelibrary.org/en/classes/class-1-reading-comprehension-strategy-2/
CATEGORIES:Spanish Class
END:VEVENT
BEGIN:VEVENT
DTSTART;TZID=America/New_York:20251127T150000
DTEND;TZID=America/New_York:20251127T170000
DTSTAMP:20260424T114732
CREATED:20251028T074444Z
LAST-MODIFIED:20251028T074444Z
UID:29407-1764255600-1764262800@www.bilingualelibrary.org
SUMMARY:🔴 Learn English and Technology for Spanish Speakers
DESCRIPTION:Video class (pre-recorded) \n▶ Watch on YouTube: https://www.youtube.com/@E-LibraryUHD \nNote: No Zoom — pre-recorded video. \n\n\n  Learn English and Technology for Spanish Speakers\n  Professor Sheyla Rodriguez (video; no Zoom)\n  Description: A pre-recorded class for English learners covering computer fundamentals and useful everyday apps. Start any time and learn at your pace.\n  Register\n  A certificate will be given for each workshop with 90% attendance.
URL:https://www.bilingualelibrary.org/en/classes/%f0%9f%94%b4-learn-english-and-technology-for-spanish-speakers-8/
CATEGORIES:English Class
END:VEVENT
BEGIN:VEVENT
DTSTART;VALUE=DATE:20251127
DTEND;VALUE=DATE:20251128
DTSTAMP:20260424T114732
CREATED:20250927T164116Z
LAST-MODIFIED:20250927T170036Z
UID:28820-1764201600-1764287999@www.bilingualelibrary.org
SUMMARY:🟡 Reading Strategies: Reading Comprehension
DESCRIPTION:Professor Aida UlloaClass focus: Reading Comprehension.Weekly session via our YouTube Channel.Learn at your own pace.Watch on YouTubeRegisterA certificate will be given for each workshop with 90% attendance.
URL:https://www.bilingualelibrary.org/en/classes/%f0%9f%9f%a1-reading-strategies-reading-comprehension-21/
END:VEVENT
BEGIN:VEVENT
DTSTART;TZID=America/New_York:20251126T183000
DTEND;TZID=America/New_York:20251126T200000
DTSTAMP:20260424T114732
CREATED:20251028T075432Z
LAST-MODIFIED:20251028T080849Z
UID:29432-1764181800-1764187200@www.bilingualelibrary.org
SUMMARY:🔵 Learn Spanish and Technology for English Speakers
DESCRIPTION:Hybrid class (Zoom + In-person) \n🟦 Join on Zoom: https://uhd.zoom.us/j/8323305272 \nMeeting ID: 8323305272   |   Passcode: 2023 \n\n\n  Learn English and Technology for Spanish Speakers\n  Professor Marina Villarino\n  Description: Live support to improve English communication while practicing computer and Zoom skills. Includes guided exercises and Q&A.\n  Live workshop on Zoom.\n  Zoom  8323305272  |  2023\n  Register\n  A certificate will be given for each workshop with 90% attendance.
URL:https://www.bilingualelibrary.org/en/classes/%f0%9f%94%b5-learn-english-and-technology-for-spanish-speakers-5/
CATEGORIES:Spanish Class
END:VEVENT
BEGIN:VEVENT
DTSTART;TZID=America/New_York:20251126T150000
DTEND;TZID=America/New_York:20251126T170000
DTSTAMP:20260424T114732
CREATED:20251028T075431Z
LAST-MODIFIED:20251028T075431Z
UID:29431-1764169200-1764176400@www.bilingualelibrary.org
SUMMARY:🔵 Learn Spanish and Technology for English Speakers
DESCRIPTION:Video class (pre-recorded) \n▶ Watch on YouTube: https://www.youtube.com/@E-LibraryUHD \nNote: No Zoom — pre-recorded video. \n\n\n  Learn Spanish and Technology for English Speakers\n  Professor Marina Villarino (video; no Zoom)\n  Description: A pre-recorded lesson covering computer basics and helpful apps for Spanish learners. Watch at your own pace and revisit any time.\n  Register\n  A certificate will be given for each workshop with 90% attendance.
URL:https://www.bilingualelibrary.org/en/classes/%f0%9f%94%b5-learn-spanish-and-technology-for-english-speakers-6/
CATEGORIES:Spanish Class
END:VEVENT
BEGIN:VEVENT
DTSTART;TZID=America/New_York:20251126T100000
DTEND;TZID=America/New_York:20251126T110000
DTSTAMP:20260424T114732
CREATED:20250925T214728Z
LAST-MODIFIED:20250927T170036Z
UID:28339-1764151200-1764154800@www.bilingualelibrary.org
SUMMARY:🟡 Reading & E-Games Bilingual Club
DESCRIPTION:Professor Aida UlloaClass focus: Reading Bilingual Stories Workshop + UHD E‑Games Bilingual Workshop.Live class on Zoom.Zoom Meeting ID: 844 8110 6376  |  Passcode: 2025Join ZoomRegisterA certificate will be given for each workshop with 90% attendance.
URL:https://www.bilingualelibrary.org/en/classes/%f0%9f%9f%a1-reading-e-games-bilingual-club-10/
END:VEVENT
BEGIN:VEVENT
DTSTART;TZID=America/New_York:20251125T110000
DTEND;TZID=America/New_York:20251125T130000
DTSTAMP:20260424T114732
CREATED:20251028T074444Z
LAST-MODIFIED:20251028T074444Z
UID:29406-1764068400-1764075600@www.bilingualelibrary.org
SUMMARY:🔴 Learn English and Technology for Spanish Speakers
DESCRIPTION:Hybrid class (Zoom + In-person) \n🟦 Join on Zoom: https://uhd.zoom.us/j/3258997851 \nMeeting ID: 3258997851   |   Passcode: 2024 \n\n\n  Learn English and Technology for Spanish Speakers\n  Professor Sheyla Rodriguez\n  Description: Practice everyday English while learning computer\, Zoom\, and basic software skills in a live\, interactive class. No prior experience required.\n  Live workshop on Zoom.\n  Zoom  3258997851  |  2024\n  Register\n  A certificate will be given for each workshop with 90% attendance.
URL:https://www.bilingualelibrary.org/en/classes/%f0%9f%94%b4-learn-english-and-technology-for-spanish-speakers-7/
CATEGORIES:English Class
END:VEVENT
BEGIN:VEVENT
DTSTART;TZID=America/New_York:20251125T100000
DTEND;TZID=America/New_York:20251125T110000
DTSTAMP:20260424T114732
CREATED:20250925T214727Z
LAST-MODIFIED:20250927T170036Z
UID:28338-1764064800-1764068400@www.bilingualelibrary.org
SUMMARY:🟡 AI Technology Skills (Academic AI & Tech)
DESCRIPTION:Professor Aida UlloaClass focus: Learn how to use Academic AI and technology skills.Live class on Zoom.Zoom Meeting ID: 844 8110 6376  |  Passcode: 2025Join ZoomRegisterA certificate will be given for each workshop with 90% attendance.
URL:https://www.bilingualelibrary.org/en/classes/%f0%9f%9f%a1-ai-technology-skills-academic-ai-tech-10/
END:VEVENT
BEGIN:VEVENT
DTSTART;TZID=America/New_York:20251124T183000
DTEND;TZID=America/New_York:20251124T200000
DTSTAMP:20260424T114732
CREATED:20251028T075431Z
LAST-MODIFIED:20251028T075431Z
UID:29430-1764009000-1764014400@www.bilingualelibrary.org
SUMMARY:🔵 Learn Spanish and Technology for English Speakers
DESCRIPTION:Video class (pre-recorded) \n▶ Watch on YouTube: https://www.youtube.com/@E-LibraryUHD \nNote: No Zoom — pre-recorded video. \n\n\n  Learn Spanish and Technology for English Speakers\n  Professor Marina Villarino (video; no Zoom)\n  Description: A pre-recorded lesson covering computer basics and helpful apps for Spanish learners. Watch at your own pace and revisit any time.\n  Register\n  A certificate will be given for each workshop with 90% attendance.
URL:https://www.bilingualelibrary.org/en/classes/%f0%9f%94%b5-learn-spanish-and-technology-for-english-speakers-5/
CATEGORIES:Spanish Class
END:VEVENT
BEGIN:VEVENT
DTSTART;TZID=America/New_York:20251124T183000
DTEND;TZID=America/New_York:20251124T200000
DTSTAMP:20260424T114732
CREATED:20251028T074443Z
LAST-MODIFIED:20251028T074443Z
UID:29405-1764009000-1764014400@www.bilingualelibrary.org
SUMMARY:🔴 Learn English and Technology for Spanish Speakers
DESCRIPTION:Hybrid class (Zoom + In-person) \n🟦 Join on Zoom: https://uhd.zoom.us/j/3258997851 \nMeeting ID: 3258997851   |   Passcode: 2024 \n\n\n  Learn English and Technology for Spanish Speakers\n  Professor Sheyla Rodriguez\n  Description: Practice everyday English while learning computer\, Zoom\, and basic software skills in a live\, interactive class. No prior experience required.\n  Live workshop on Zoom.\n  Zoom  3258997851  |  2024\n  Register\n  A certificate will be given for each workshop with 90% attendance.
URL:https://www.bilingualelibrary.org/en/classes/%f0%9f%94%b4-learn-english-and-technology-for-spanish-speakers-6/
CATEGORIES:English Class
END:VEVENT
BEGIN:VEVENT
DTSTART;TZID=America/New_York:20251124T110000
DTEND;TZID=America/New_York:20251124T130000
DTSTAMP:20260424T114732
CREATED:20251028T075333Z
LAST-MODIFIED:20251028T075333Z
UID:29429-1763982000-1763989200@www.bilingualelibrary.org
SUMMARY:🔵 Learn Spanish and Technology for English Speakers
DESCRIPTION:Hybrid class (Zoom + In-person) \n🟦 Join on Zoom: https://uhd.zoom.us/j/8323305272 \nMeeting ID: 8323305272   |   Passcode: 2023 \n\n\n  Learn Spanish and Technology for English Speakers\n  Professor Marina Villarino\n  Description: Learn essential computer skills\, Zoom\, and basic programs while practicing Spanish in a supportive\, hands-on session. Ideal for beginners and returning learners.\n  Live workshop on Zoom.\n  Zoom  8323305272  |  2023\n  Register\n  A certificate will be given for each workshop with 90% attendance.
URL:https://www.bilingualelibrary.org/en/classes/%f0%9f%94%b5-learn-spanish-and-technology-for-english-speakers-4/
CATEGORIES:Spanish Class
END:VEVENT
BEGIN:VEVENT
DTSTART;TZID=America/New_York:20251120T150000
DTEND;TZID=America/New_York:20251120T170000
DTSTAMP:20260424T114732
CREATED:20251028T074429Z
LAST-MODIFIED:20251028T074429Z
UID:29404-1763650800-1763658000@www.bilingualelibrary.org
SUMMARY:🔴 Learn English and Technology for Spanish Speakers
DESCRIPTION:Video class (pre-recorded) \n▶ Watch on YouTube: https://www.youtube.com/@E-LibraryUHD \nNote: No Zoom — pre-recorded video. \n\n\n  Learn English and Technology for Spanish Speakers\n  Professor Sheyla Rodriguez (video; no Zoom)\n  Description: A pre-recorded class for English learners covering computer fundamentals and useful everyday apps. Start any time and learn at your pace.\n  Register\n  A certificate will be given for each workshop with 90% attendance.
URL:https://www.bilingualelibrary.org/en/classes/%f0%9f%94%b4-learn-english-and-technology-for-spanish-speakers-5/
CATEGORIES:English Class
END:VEVENT
BEGIN:VEVENT
DTSTART;VALUE=DATE:20251120
DTEND;VALUE=DATE:20251121
DTSTAMP:20260424T114732
CREATED:20250927T164116Z
LAST-MODIFIED:20250927T170036Z
UID:28819-1763596800-1763683199@www.bilingualelibrary.org
SUMMARY:🟡 Reading Strategies: Reading Comprehension
DESCRIPTION:Professor Aida UlloaClass focus: Reading Comprehension.Weekly session via our YouTube Channel.Learn at your own pace.Watch on YouTubeRegisterA certificate will be given for each workshop with 90% attendance.
URL:https://www.bilingualelibrary.org/en/classes/%f0%9f%9f%a1-reading-strategies-reading-comprehension-20/
END:VEVENT
BEGIN:VEVENT
DTSTART;TZID=America/New_York:20251119T183000
DTEND;TZID=America/New_York:20251119T200000
DTSTAMP:20260424T114732
CREATED:20251028T075332Z
LAST-MODIFIED:20251028T080858Z
UID:29428-1763577000-1763582400@www.bilingualelibrary.org
SUMMARY:🔵 Learn Spanish and Technology for English Speakers
DESCRIPTION:Hybrid class (Zoom + In-person) \n🟦 Join on Zoom: https://uhd.zoom.us/j/8323305272 \nMeeting ID: 8323305272   |   Passcode: 2023 \n\n\n  Learn English and Technology for Spanish Speakers\n  Professor Marina Villarino\n  Description: Live support to improve English communication while practicing computer and Zoom skills. Includes guided exercises and Q&A.\n  Live workshop on Zoom.\n  Zoom  8323305272  |  2023\n  Register\n  A certificate will be given for each workshop with 90% attendance.
URL:https://www.bilingualelibrary.org/en/classes/%f0%9f%94%b5-learn-english-and-technology-for-spanish-speakers-4/
CATEGORIES:Spanish Class
END:VEVENT
BEGIN:VEVENT
DTSTART;TZID=America/New_York:20251119T150000
DTEND;TZID=America/New_York:20251119T170000
DTSTAMP:20260424T114732
CREATED:20251028T075332Z
LAST-MODIFIED:20251028T075332Z
UID:29427-1763564400-1763571600@www.bilingualelibrary.org
SUMMARY:🔵 Learn Spanish and Technology for English Speakers
DESCRIPTION:Video class (pre-recorded) \n▶ Watch on YouTube: https://www.youtube.com/@E-LibraryUHD \nNote: No Zoom — pre-recorded video. \n\n\n  Learn Spanish and Technology for English Speakers\n  Professor Marina Villarino (video; no Zoom)\n  Description: A pre-recorded lesson covering computer basics and helpful apps for Spanish learners. Watch at your own pace and revisit any time.\n  Register\n  A certificate will be given for each workshop with 90% attendance.
URL:https://www.bilingualelibrary.org/en/classes/%f0%9f%94%b5-learn-spanish-and-technology-for-english-speakers-3/
CATEGORIES:Spanish Class
END:VEVENT
BEGIN:VEVENT
DTSTART;TZID=America/New_York:20251119T100000
DTEND;TZID=America/New_York:20251119T110000
DTSTAMP:20260424T114732
CREATED:20250925T214727Z
LAST-MODIFIED:20250927T170036Z
UID:28336-1763546400-1763550000@www.bilingualelibrary.org
SUMMARY:🟡 Reading & E-Games Bilingual Club
DESCRIPTION:Professor Aida UlloaClass focus: Reading Bilingual Stories Workshop + UHD E‑Games Bilingual Workshop.Live class on Zoom.Zoom Meeting ID: 844 8110 6376  |  Passcode: 2025Join ZoomRegisterA certificate will be given for each workshop with 90% attendance.
URL:https://www.bilingualelibrary.org/en/classes/%f0%9f%9f%a1-reading-e-games-bilingual-club-9/
END:VEVENT
BEGIN:VEVENT
DTSTART;TZID=America/New_York:20251118T110000
DTEND;TZID=America/New_York:20251118T130000
DTSTAMP:20260424T114732
CREATED:20251028T074429Z
LAST-MODIFIED:20251028T074429Z
UID:29403-1763463600-1763470800@www.bilingualelibrary.org
SUMMARY:🔴 Learn English and Technology for Spanish Speakers
DESCRIPTION:Hybrid class (Zoom + In-person) \n🟦 Join on Zoom: https://uhd.zoom.us/j/3258997851 \nMeeting ID: 3258997851   |   Passcode: 2024 \n\n\n  Learn English and Technology for Spanish Speakers\n  Professor Sheyla Rodriguez\n  Description: Practice everyday English while learning computer\, Zoom\, and basic software skills in a live\, interactive class. No prior experience required.\n  Live workshop on Zoom.\n  Zoom  3258997851  |  2024\n  Register\n  A certificate will be given for each workshop with 90% attendance.
URL:https://www.bilingualelibrary.org/en/classes/%f0%9f%94%b4-learn-english-and-technology-for-spanish-speakers-4/
CATEGORIES:English Class
END:VEVENT
BEGIN:VEVENT
DTSTART;TZID=America/New_York:20251118T100000
DTEND;TZID=America/New_York:20251118T110000
DTSTAMP:20260424T114732
CREATED:20250925T214629Z
LAST-MODIFIED:20250927T165936Z
UID:28335-1763460000-1763463600@www.bilingualelibrary.org
SUMMARY:🟡 AI Technology Skills (Academic AI & Tech)
DESCRIPTION:Professor Aida UlloaClass focus: Learn how to use Academic AI and technology skills.Live class on Zoom.Zoom Meeting ID: 844 8110 6376  |  Passcode: 2025Join ZoomRegisterA certificate will be given for each workshop with 90% attendance.
URL:https://www.bilingualelibrary.org/en/classes/%f0%9f%9f%a1-ai-technology-skills-academic-ai-tech-9/
END:VEVENT
BEGIN:VEVENT
DTSTART;TZID=America/New_York:20251117T183000
DTEND;TZID=America/New_York:20251117T200000
DTSTAMP:20260424T114732
CREATED:20251028T075332Z
LAST-MODIFIED:20251028T075332Z
UID:29426-1763404200-1763409600@www.bilingualelibrary.org
SUMMARY:🔵 Learn Spanish and Technology for English Speakers
DESCRIPTION:Video class (pre-recorded) \n▶ Watch on YouTube: https://www.youtube.com/@E-LibraryUHD \nNote: No Zoom — pre-recorded video. \n\n\n  Learn Spanish and Technology for English Speakers\n  Professor Marina Villarino (video; no Zoom)\n  Description: A pre-recorded lesson covering computer basics and helpful apps for Spanish learners. Watch at your own pace and revisit any time.\n  Register\n  A certificate will be given for each workshop with 90% attendance.
URL:https://www.bilingualelibrary.org/en/classes/%f0%9f%94%b5-learn-spanish-and-technology-for-english-speakers-2/
CATEGORIES:Spanish Class
END:VEVENT
BEGIN:VEVENT
DTSTART;TZID=America/New_York:20251117T183000
DTEND;TZID=America/New_York:20251117T200000
DTSTAMP:20260424T114732
CREATED:20251028T074429Z
LAST-MODIFIED:20251028T074429Z
UID:29402-1763404200-1763409600@www.bilingualelibrary.org
SUMMARY:🔴 Learn English and Technology for Spanish Speakers
DESCRIPTION:Hybrid class (Zoom + In-person) \n🟦 Join on Zoom: https://uhd.zoom.us/j/3258997851 \nMeeting ID: 3258997851   |   Passcode: 2024 \n\n\n  Learn English and Technology for Spanish Speakers\n  Professor Sheyla Rodriguez\n  Description: Practice everyday English while learning computer\, Zoom\, and basic software skills in a live\, interactive class. No prior experience required.\n  Live workshop on Zoom.\n  Zoom  3258997851  |  2024\n  Register\n  A certificate will be given for each workshop with 90% attendance.
URL:https://www.bilingualelibrary.org/en/classes/%f0%9f%94%b4-learn-english-and-technology-for-spanish-speakers-3/
CATEGORIES:English Class
END:VEVENT
BEGIN:VEVENT
DTSTART;TZID=America/New_York:20251117T110000
DTEND;TZID=America/New_York:20251117T130000
DTSTAMP:20260424T114732
CREATED:20251028T075331Z
LAST-MODIFIED:20251028T075331Z
UID:29425-1763377200-1763384400@www.bilingualelibrary.org
SUMMARY:🔵 Learn Spanish and Technology for English Speakers
DESCRIPTION:Hybrid class (Zoom + In-person) \n🟦 Join on Zoom: https://uhd.zoom.us/j/8323305272 \nMeeting ID: 8323305272   |   Passcode: 2023 \n\n\n  Learn Spanish and Technology for English Speakers\n  Professor Marina Villarino\n  Description: Learn essential computer skills\, Zoom\, and basic programs while practicing Spanish in a supportive\, hands-on session. Ideal for beginners and returning learners.\n  Live workshop on Zoom.\n  Zoom  8323305272  |  2023\n  Register\n  A certificate will be given for each workshop with 90% attendance.
URL:https://www.bilingualelibrary.org/en/classes/%f0%9f%94%b5-learn-spanish-and-technology-for-english-speakers/
CATEGORIES:Spanish Class
END:VEVENT
BEGIN:VEVENT
DTSTART;TZID=America/New_York:20251113T150000
DTEND;TZID=America/New_York:20251113T170000
DTSTAMP:20260424T114732
CREATED:20251010T130225Z
LAST-MODIFIED:20251028T074429Z
UID:29144-1763046000-1763053200@www.bilingualelibrary.org
SUMMARY:🔴 Learn English and Technology for Spanish Speakers
DESCRIPTION:Video class (pre-recorded) \n▶ Watch on YouTube: https://www.youtube.com/@E-LibraryUHD \nNote: No Zoom — pre-recorded video. \n\n\n  Learn English and Technology for Spanish Speakers\n  Professor Sheyla Rodriguez (video; no Zoom)\n  Description: A pre-recorded class for English learners covering computer fundamentals and useful everyday apps. Start any time and learn at your pace.\n  Register\n  A certificate will be given for each workshop with 90% attendance.
URL:https://www.bilingualelibrary.org/en/classes/%f0%9f%94%b4-discover-and-learn-spanish-in-the-uhd-e%e2%80%91library-10/
CATEGORIES:English Class
END:VEVENT
END:VCALENDAR