BEGIN:VCALENDAR
VERSION:2.0
PRODID:-//UHD Bilingual E-Library - ECPv6.15.17.1//NONSGML v1.0//EN
CALSCALE:GREGORIAN
METHOD:PUBLISH
X-ORIGINAL-URL:https://www.bilingualelibrary.org/en
X-WR-CALDESC:Events for UHD Bilingual E-Library
REFRESH-INTERVAL;VALUE=DURATION:PT1H
X-Robots-Tag:noindex
X-PUBLISHED-TTL:PT1H
BEGIN:VTIMEZONE
TZID:America/New_York
BEGIN:DAYLIGHT
TZOFFSETFROM:-0500
TZOFFSETTO:-0400
TZNAME:EDT
DTSTART:20250309T070000
END:DAYLIGHT
BEGIN:STANDARD
TZOFFSETFROM:-0400
TZOFFSETTO:-0500
TZNAME:EST
DTSTART:20251102T060000
END:STANDARD
BEGIN:DAYLIGHT
TZOFFSETFROM:-0500
TZOFFSETTO:-0400
TZNAME:EDT
DTSTART:20260308T070000
END:DAYLIGHT
BEGIN:STANDARD
TZOFFSETFROM:-0400
TZOFFSETTO:-0500
TZNAME:EST
DTSTART:20261101T060000
END:STANDARD
BEGIN:DAYLIGHT
TZOFFSETFROM:-0500
TZOFFSETTO:-0400
TZNAME:EDT
DTSTART:20270314T070000
END:DAYLIGHT
BEGIN:STANDARD
TZOFFSETFROM:-0400
TZOFFSETTO:-0500
TZNAME:EST
DTSTART:20271107T060000
END:STANDARD
END:VTIMEZONE
BEGIN:VEVENT
DTSTART;VALUE=DATE:20260505
DTEND;VALUE=DATE:20260506
DTSTAMP:20260424T093756
CREATED:20260314T120814Z
LAST-MODIFIED:20260314T125134Z
UID:30180-1777939200-1778025599@www.bilingualelibrary.org
SUMMARY:Reading Club #5: Where Are the Tickets?
DESCRIPTION:Professor: Aida Ulloa \nObjective: Practice bilingual reading. \nWatch on YouTube \nNote: These classes were selected from the library archive and may not follow a specific sequence.
URL:https://www.bilingualelibrary.org/en/classes/reading-club-5-where-are-the-tickets/
END:VEVENT
BEGIN:VEVENT
DTSTART;VALUE=DATE:20260512
DTEND;VALUE=DATE:20260513
DTSTAMP:20260424T093756
CREATED:20260214T011317Z
LAST-MODIFIED:20260314T125018Z
UID:30050-1778544000-1778630399@www.bilingualelibrary.org
SUMMARY:Class #6: Question Writing Practice Strategy
DESCRIPTION:Professor: Aida Ulloa \nObjective: Techniques to improve fluency and comprehension. \nWatch on YouTube \nNote: These classes were selected from the library archive and may not follow a specific sequence.
URL:https://www.bilingualelibrary.org/en/classes/class-6-question-writing-practice-strategy-2/
CATEGORIES:Spanish Class
END:VEVENT
BEGIN:VEVENT
DTSTART;VALUE=DATE:20260519
DTEND;VALUE=DATE:20260520
DTSTAMP:20260424T093756
CREATED:20260314T120815Z
LAST-MODIFIED:20260314T134354Z
UID:30181-1779148800-1779235199@www.bilingualelibrary.org
SUMMARY:Reading Club #6: In Search of the Treasure
DESCRIPTION:Professor: Aida Ulloa \nObjective: Practice bilingual reading. \n\nWatch on YouTube\n \nNote: These classes were selected from the library archive and may not follow a specific sequence.
URL:https://www.bilingualelibrary.org/en/classes/reading-club-6-in-search-of-the-treasure/
END:VEVENT
BEGIN:VEVENT
DTSTART;VALUE=DATE:20260526
DTEND;VALUE=DATE:20260527
DTSTAMP:20260424T093756
CREATED:20260214T011317Z
LAST-MODIFIED:20260314T125018Z
UID:30051-1779753600-1779839999@www.bilingualelibrary.org
SUMMARY:Class #7: Reading Corner Strategy
DESCRIPTION:Professor: Aida Ulloa \nObjective: Techniques to improve fluency and comprehension. \nWatch on YouTube \nNote: These classes were selected from the library archive and may not follow a specific sequence.
URL:https://www.bilingualelibrary.org/en/classes/class-7-reading-corner-strategy-2/
CATEGORIES:Spanish Class
END:VEVENT
BEGIN:VEVENT
DTSTART;VALUE=DATE:20260602
DTEND;VALUE=DATE:20260603
DTSTAMP:20260424T093756
CREATED:20260314T120815Z
LAST-MODIFIED:20260314T125134Z
UID:30182-1780358400-1780444799@www.bilingualelibrary.org
SUMMARY:Reading Club #7: The Pink Ballet Slippers
DESCRIPTION:Professor: Aida Ulloa \nObjective: Practice bilingual reading. \nWatch on YouTube \nNote: These classes were selected from the library archive and may not follow a specific sequence.
URL:https://www.bilingualelibrary.org/en/classes/reading-club-7-the-pink-ballet-slippers/
END:VEVENT
BEGIN:VEVENT
DTSTART;VALUE=DATE:20260609
DTEND;VALUE=DATE:20260610
DTSTAMP:20260424T093756
CREATED:20260214T011318Z
LAST-MODIFIED:20260314T125019Z
UID:30052-1780963200-1781049599@www.bilingualelibrary.org
SUMMARY:Class #8: Interactive Reading Strategy
DESCRIPTION:Professor: Aida Ulloa \nObjective: Techniques to improve fluency and comprehension. \nWatch on YouTube \nNote: These classes were selected from the library archive and may not follow a specific sequence.
URL:https://www.bilingualelibrary.org/en/classes/class-8-interactive-reading-strategy-2/
CATEGORIES:Spanish Class
END:VEVENT
BEGIN:VEVENT
DTSTART;VALUE=DATE:20260616
DTEND;VALUE=DATE:20260617
DTSTAMP:20260424T093756
CREATED:20260314T120815Z
LAST-MODIFIED:20260314T135235Z
UID:30183-1781568000-1781654399@www.bilingualelibrary.org
SUMMARY:Reading Club #8: Slime and Volcanoes
DESCRIPTION:Professor: Aida Ulloa \nObjective: Practice bilingual reading. \n\n\nWatch on YouTube\n\n \nNote: These classes were selected from the library archive and may not follow a specific sequence.
URL:https://www.bilingualelibrary.org/en/classes/reading-club-8-slime-and-volcanoes/
END:VEVENT
BEGIN:VEVENT
DTSTART;VALUE=DATE:20260623
DTEND;VALUE=DATE:20260624
DTSTAMP:20260424T093756
CREATED:20260214T011318Z
LAST-MODIFIED:20260314T125019Z
UID:30053-1782172800-1782259199@www.bilingualelibrary.org
SUMMARY:Class #9: Inferential Questions Strategy
DESCRIPTION:Professor: Aida Ulloa \nObjective: Techniques to improve fluency and comprehension. \nWatch on YouTube \nNote: These classes were selected from the library archive and may not follow a specific sequence.
URL:https://www.bilingualelibrary.org/en/classes/class-9-inferential-questions-strategy-2/
CATEGORIES:Spanish Class
END:VEVENT
BEGIN:VEVENT
DTSTART;VALUE=DATE:20260630
DTEND;VALUE=DATE:20260701
DTSTAMP:20260424T093756
CREATED:20260314T120815Z
LAST-MODIFIED:20260314T135503Z
UID:30184-1782777600-1782863999@www.bilingualelibrary.org
SUMMARY:Reading Club #9: Baking Soda and Vinegar Experiment
DESCRIPTION:Professor: Aida Ulloa \nObjective: Practice bilingual reading. \n\n\nWatch on YouTube\n\n \nNote: These classes were selected from the library archive and may not follow a specific sequence.
URL:https://www.bilingualelibrary.org/en/classes/reading-club-9-baking-soda-and-vinegar-experiment/
END:VEVENT
BEGIN:VEVENT
DTSTART;VALUE=DATE:20260707
DTEND;VALUE=DATE:20260708
DTSTAMP:20260424T093756
CREATED:20260214T011318Z
LAST-MODIFIED:20260314T135743Z
UID:30054-1783382400-1783468799@www.bilingualelibrary.org
SUMMARY:Class #10: Questions Before\, During & After Reading
DESCRIPTION:Professor: Aida Ulloa \nObjective: Techniques to improve fluency and comprehension. \n\n\nWatch on YouTube\n\n \nNote: These classes were selected from the library archive and may not follow a specific sequence.
URL:https://www.bilingualelibrary.org/en/classes/class-10-questions-before-during-after-reading-2/
CATEGORIES:Spanish Class
END:VEVENT
BEGIN:VEVENT
DTSTART;VALUE=DATE:20260714
DTEND;VALUE=DATE:20260715
DTSTAMP:20260424T093756
CREATED:20260314T121012Z
LAST-MODIFIED:20260314T125233Z
UID:30185-1783987200-1784073599@www.bilingualelibrary.org
SUMMARY:Reading Club #10: Insects and Activities
DESCRIPTION:Professor: Aida Ulloa \nObjective: Practice bilingual reading. \nWatch on YouTube \nNote: These classes were selected from the library archive and may not follow a specific sequence.
URL:https://www.bilingualelibrary.org/en/classes/reading-club-10-insects-and-activities/
END:VEVENT
BEGIN:VEVENT
DTSTART;VALUE=DATE:20260728
DTEND;VALUE=DATE:20260729
DTSTAMP:20260424T093756
CREATED:20260314T121013Z
LAST-MODIFIED:20260314T125233Z
UID:30186-1785196800-1785283199@www.bilingualelibrary.org
SUMMARY:AI #1: ChatGPT and Google
DESCRIPTION:Professor: Aida Ulloa \nObjective: Use Artificial Intelligence in the academic environment. \nWatch on YouTube \nNote: These classes were selected from the library archive and may not follow a specific sequence.
URL:https://www.bilingualelibrary.org/en/classes/ai-1-chatgpt-and-google/
END:VEVENT
BEGIN:VEVENT
DTSTART;VALUE=DATE:20260804
DTEND;VALUE=DATE:20260805
DTSTAMP:20260424T093756
CREATED:20260314T121013Z
LAST-MODIFIED:20260314T135942Z
UID:30188-1785801600-1785887999@www.bilingualelibrary.org
SUMMARY:AI #3: Create Images with AI
DESCRIPTION:Professor: Aida Ulloa \nObjective: Use Artificial Intelligence in the academic environment. \n\n\nWatch on YouTube\n\n \nNote: These classes were selected from the library archive and may not follow a specific sequence.
URL:https://www.bilingualelibrary.org/en/classes/ai-3-create-images-with-ai/
END:VEVENT
BEGIN:VEVENT
DTSTART;VALUE=DATE:20260811
DTEND;VALUE=DATE:20260812
DTSTAMP:20260424T093756
CREATED:20260314T121013Z
LAST-MODIFIED:20260314T140137Z
UID:30187-1786406400-1786492799@www.bilingualelibrary.org
SUMMARY:AI #2: Create Mini Animated Stories with AI
DESCRIPTION:Professor: Aida Ulloa \nObjective: Use Artificial Intelligence in the academic environment. \n\n\nWatch on YouTube\n\n \nNote: These classes were selected from the library archive and may not follow a specific sequence.
URL:https://www.bilingualelibrary.org/en/classes/ai-2-create-mini-animated-stories-with-ai/
END:VEVENT
BEGIN:VEVENT
DTSTART;VALUE=DATE:20260811
DTEND;VALUE=DATE:20260812
DTSTAMP:20260424T093756
CREATED:20260314T121014Z
LAST-MODIFIED:20260314T140035Z
UID:30189-1786406400-1786492799@www.bilingualelibrary.org
SUMMARY:AI #4: The Magic Reading Train Video with Canva
DESCRIPTION:Professor: Aida Ulloa \nObjective: Use Artificial Intelligence in the academic environment. \n\n\nWatch on YouTube\n\n \nNote: These classes were selected from the library archive and may not follow a specific sequence.
URL:https://www.bilingualelibrary.org/en/classes/ai-4-the-magic-reading-train-video-with-canva/
END:VEVENT
BEGIN:VEVENT
DTSTART;VALUE=DATE:20260818
DTEND;VALUE=DATE:20260819
DTSTAMP:20260424T093756
CREATED:20260314T121112Z
LAST-MODIFIED:20260314T140245Z
UID:30190-1787011200-1787097599@www.bilingualelibrary.org
SUMMARY:AI #5: Turn the Story into an Animated Video
DESCRIPTION:Professor: Aida Ulloa \nObjective: Use Artificial Intelligence in the academic environment. \n\n\nWatch on YouTube\n\n \nNote: These classes were selected from the library archive and may not follow a specific sequence.
URL:https://www.bilingualelibrary.org/en/classes/ai-5-turn-the-story-into-an-animated-video/
END:VEVENT
BEGIN:VEVENT
DTSTART;VALUE=DATE:20260825
DTEND;VALUE=DATE:20260826
DTSTAMP:20260424T093756
CREATED:20260314T121113Z
LAST-MODIFIED:20260314T140403Z
UID:30191-1787616000-1787702399@www.bilingualelibrary.org
SUMMARY:AI #6: Create My Story in Canva Flipbook Style
DESCRIPTION:Professor: Aida Ulloa \nObjective: Use Artificial Intelligence in the academic environment. \n\n\nWatch on YouTube\n\n \nNote: These classes were selected from the library archive and may not follow a specific sequence.
URL:https://www.bilingualelibrary.org/en/classes/ai-6-create-my-story-in-canva-flipbook-style/
END:VEVENT
END:VCALENDAR