BEGIN:VCALENDAR
VERSION:2.0
PRODID:-//UHD Bilingual E-Library - ECPv6.15.17.1//NONSGML v1.0//EN
CALSCALE:GREGORIAN
METHOD:PUBLISH
X-WR-CALNAME:UHD Bilingual E-Library
X-ORIGINAL-URL:https://www.bilingualelibrary.org/es
X-WR-CALDESC:Eventos para UHD Bilingual E-Library
REFRESH-INTERVAL;VALUE=DURATION:PT1H
X-Robots-Tag:noindex
X-PUBLISHED-TTL:PT1H
BEGIN:VTIMEZONE
TZID:America/New_York
BEGIN:DAYLIGHT
TZOFFSETFROM:-0500
TZOFFSETTO:-0400
TZNAME:EDT
DTSTART:20240310T070000
END:DAYLIGHT
BEGIN:STANDARD
TZOFFSETFROM:-0400
TZOFFSETTO:-0500
TZNAME:EST
DTSTART:20241103T060000
END:STANDARD
BEGIN:DAYLIGHT
TZOFFSETFROM:-0500
TZOFFSETTO:-0400
TZNAME:EDT
DTSTART:20250309T070000
END:DAYLIGHT
BEGIN:STANDARD
TZOFFSETFROM:-0400
TZOFFSETTO:-0500
TZNAME:EST
DTSTART:20251102T060000
END:STANDARD
BEGIN:DAYLIGHT
TZOFFSETFROM:-0500
TZOFFSETTO:-0400
TZNAME:EDT
DTSTART:20260308T070000
END:DAYLIGHT
BEGIN:STANDARD
TZOFFSETFROM:-0400
TZOFFSETTO:-0500
TZNAME:EST
DTSTART:20261101T060000
END:STANDARD
END:VTIMEZONE
BEGIN:VEVENT
DTSTART;TZID=America/New_York:20250502T100000
DTEND;TZID=America/New_York:20250502T100000
DTSTAMP:20260424T121803
CREATED:20250205T023821Z
LAST-MODIFIED:20250205T081525Z
UID:23712-1746180000-1746180000@www.bilingualelibrary.org
SUMMARY:Entrepreneurship Classes
DESCRIPTION:In-person\, Zoom\, YouTube class on Entrepreneurship Classes with engaging activities for participants. Passcode 2023
URL:https://www.bilingualelibrary.org/es/classes/entrepreneurship-classes-17/
CATEGORIES:UHD BILINGUAL E-LIBRARY CLASS SCHEDULE SPRING 2025
ATTACH;FMTTYPE=image/png:https://www.bilingualelibrary.org/wp-content/uploads/2025/02/Entrepreneurship-Classes-e1738738042896-mzNFKn.tmp_.png
END:VEVENT
BEGIN:VEVENT
DTSTART;TZID=America/New_York:20250505T110000
DTEND;TZID=America/New_York:20250505T110000
DTSTAMP:20260424T121803
CREATED:20250205T020659Z
LAST-MODIFIED:20250205T080935Z
UID:23611-1746442800-1746442800@www.bilingualelibrary.org
SUMMARY:Story Writing
DESCRIPTION:In-person\, Zoom\, YouTube class on Story Writing with engaging activities for participants. Passcode 2024
URL:https://www.bilingualelibrary.org/es/classes/story-writing-18/
CATEGORIES:UHD BILINGUAL E-LIBRARY CLASS SCHEDULE SPRING 2025
ATTACH;FMTTYPE=image/png:https://www.bilingualelibrary.org/wp-content/uploads/2025/02/Story-Writing-e1738739050461-JhsF6M.tmp_.png
END:VEVENT
BEGIN:VEVENT
DTSTART;TZID=America/New_York:20250506T100000
DTEND;TZID=America/New_York:20250506T100000
DTSTAMP:20260424T121803
CREATED:20250205T021358Z
LAST-MODIFIED:20250205T081223Z
UID:23662-1746525600-1746525600@www.bilingualelibrary.org
SUMMARY:Bilingual Reading
DESCRIPTION:In-person\, Zoom\, YouTube class on Bilingual Reading with engaging activities for participants. Passcode 2023
URL:https://www.bilingualelibrary.org/es/classes/bilingual-reading-17/
CATEGORIES:UHD BILINGUAL E-LIBRARY CLASS SCHEDULE SPRING 2025
ATTACH;FMTTYPE=image/png:https://www.bilingualelibrary.org/wp-content/uploads/2025/02/Bilingual-Reading-e1738737801268-mn02rd.tmp_.png
END:VEVENT
BEGIN:VEVENT
DTSTART;TZID=America/New_York:20250507T100000
DTEND;TZID=America/New_York:20250507T100000
DTSTAMP:20260424T121803
CREATED:20250205T081925Z
LAST-MODIFIED:20250205T081925Z
UID:23981-1746612000-1746612000@www.bilingualelibrary.org
SUMMARY:YouTube Channel Schedule
DESCRIPTION:In-person\, Zoom\, YouTube class on YouTube Channel Schedule with engaging activities for participants. Passcode 2025
URL:https://www.bilingualelibrary.org/es/classes/youtube-channel-schedule-17/
ATTACH;FMTTYPE=image/png:https://www.bilingualelibrary.org/wp-content/uploads/2025/02/youtube-classes-e1738738172195-uKDbtu.tmp_.png
END:VEVENT
BEGIN:VEVENT
DTSTART;TZID=America/New_York:20250509T100000
DTEND;TZID=America/New_York:20250509T100000
DTSTAMP:20260424T121803
CREATED:20250205T023821Z
LAST-MODIFIED:20250205T081622Z
UID:23713-1746784800-1746784800@www.bilingualelibrary.org
SUMMARY:Entrepreneurship Classes
DESCRIPTION:In-person\, Zoom\, YouTube class on Entrepreneurship Classes with engaging activities for participants. Passcode 2023
URL:https://www.bilingualelibrary.org/es/classes/entrepreneurship-classes-18/
CATEGORIES:UHD BILINGUAL E-LIBRARY CLASS SCHEDULE SPRING 2025
ATTACH;FMTTYPE=image/png:https://www.bilingualelibrary.org/wp-content/uploads/2025/02/Entrepreneurship-Classes-e1738738042896-mzNFKn.tmp_.png
END:VEVENT
END:VCALENDAR