BEGIN:VCALENDAR
VERSION:2.0
PRODID:-//UHD Bilingual E-Library - ECPv6.15.17.1//NONSGML v1.0//EN
CALSCALE:GREGORIAN
METHOD:PUBLISH
X-WR-CALNAME:UHD Bilingual E-Library
X-ORIGINAL-URL:https://www.bilingualelibrary.org/es
X-WR-CALDESC:Eventos para UHD Bilingual E-Library
REFRESH-INTERVAL;VALUE=DURATION:PT1H
X-Robots-Tag:noindex
X-PUBLISHED-TTL:PT1H
BEGIN:VTIMEZONE
TZID:America/New_York
BEGIN:DAYLIGHT
TZOFFSETFROM:-0500
TZOFFSETTO:-0400
TZNAME:EDT
DTSTART:20240310T070000
END:DAYLIGHT
BEGIN:STANDARD
TZOFFSETFROM:-0400
TZOFFSETTO:-0500
TZNAME:EST
DTSTART:20241103T060000
END:STANDARD
BEGIN:DAYLIGHT
TZOFFSETFROM:-0500
TZOFFSETTO:-0400
TZNAME:EDT
DTSTART:20250309T070000
END:DAYLIGHT
BEGIN:STANDARD
TZOFFSETFROM:-0400
TZOFFSETTO:-0500
TZNAME:EST
DTSTART:20251102T060000
END:STANDARD
BEGIN:DAYLIGHT
TZOFFSETFROM:-0500
TZOFFSETTO:-0400
TZNAME:EDT
DTSTART:20260308T070000
END:DAYLIGHT
BEGIN:STANDARD
TZOFFSETFROM:-0400
TZOFFSETTO:-0500
TZNAME:EST
DTSTART:20261101T060000
END:STANDARD
END:VTIMEZONE
BEGIN:VEVENT
DTSTART;TZID=America/New_York:20251001T100000
DTEND;TZID=America/New_York:20251001T110000
DTSTAMP:20260424T040830
CREATED:20250925T214409Z
LAST-MODIFIED:20250927T165717Z
UID:28315-1759312800-1759316400@www.bilingualelibrary.org
SUMMARY:🟡 Reading & E-Games Bilingual Club
DESCRIPTION:Professor Aida UlloaClass focus: Reading Bilingual Stories Workshop + UHD E‑Games Bilingual Workshop.Live class on Zoom.Zoom Meeting ID: 844 8110 6376  |  Passcode: 2025Join ZoomRegisterA certificate will be given for each workshop with 90% attendance.
URL:https://www.bilingualelibrary.org/es/classes/%f0%9f%9f%a1-reading-e-games-bilingual-club-2/
END:VEVENT
BEGIN:VEVENT
DTSTART;VALUE=DATE:20251002
DTEND;VALUE=DATE:20251003
DTSTAMP:20260424T040830
CREATED:20250927T163600Z
LAST-MODIFIED:20251002T172009Z
UID:28812-1759363200-1759449599@www.bilingualelibrary.org
SUMMARY:🟡 Reading Strategies: Reading Comprehension
DESCRIPTION:Professor Aida UlloaClass focus: Reading Comprehension.Weekly session via our YouTube Channel.Learn at your own pace.Watch on YouTubeRegisterA certificate will be given for each workshop with 90% attendance.
URL:https://www.bilingualelibrary.org/es/classes/%f0%9f%9f%a1-reading-strategies-reading-comprehension-13/
END:VEVENT
BEGIN:VEVENT
DTSTART;TZID=America/New_York:20251007T100000
DTEND;TZID=America/New_York:20251007T110000
DTSTAMP:20260424T040830
CREATED:20250925T214412Z
LAST-MODIFIED:20250927T165720Z
UID:28317-1759831200-1759834800@www.bilingualelibrary.org
SUMMARY:🟡 AI Technology Skills (Academic AI & Tech)
DESCRIPTION:Professor Aida UlloaClass focus: Learn how to use Academic AI and technology skills.Live class on Zoom.Zoom Meeting ID: 844 8110 6376  |  Passcode: 2025Join ZoomRegisterA certificate will be given for each workshop with 90% attendance.
URL:https://www.bilingualelibrary.org/es/classes/%f0%9f%9f%a1-ai-technology-skills-academic-ai-tech-3/
END:VEVENT
BEGIN:VEVENT
DTSTART;TZID=America/New_York:20251008T100000
DTEND;TZID=America/New_York:20251008T110000
DTSTAMP:20260424T040830
CREATED:20250925T214412Z
LAST-MODIFIED:20250927T165720Z
UID:28318-1759917600-1759921200@www.bilingualelibrary.org
SUMMARY:🟡 Reading & E-Games Bilingual Club
DESCRIPTION:Professor Aida UlloaClass focus: Reading Bilingual Stories Workshop + UHD E‑Games Bilingual Workshop.Live class on Zoom.Zoom Meeting ID: 844 8110 6376  |  Passcode: 2025Join ZoomRegisterA certificate will be given for each workshop with 90% attendance.
URL:https://www.bilingualelibrary.org/es/classes/%f0%9f%9f%a1-reading-e-games-bilingual-club-3/
END:VEVENT
BEGIN:VEVENT
DTSTART;VALUE=DATE:20251009
DTEND;VALUE=DATE:20251010
DTSTAMP:20260424T040830
CREATED:20250927T163600Z
LAST-MODIFIED:20251009T135721Z
UID:28813-1759968000-1760054399@www.bilingualelibrary.org
SUMMARY:🟡 Reading Strategies: Reading Comprehension
DESCRIPTION:Professor Aida UlloaClass focus: Reading Comprehension.Weekly session via our YouTube Channel.Learn at your own pace.Watch on YouTubeRegisterA certificate will be given for each workshop with 90% attendance.
URL:https://www.bilingualelibrary.org/es/classes/%f0%9f%9f%a1-reading-strategies-reading-comprehension-14/
END:VEVENT
BEGIN:VEVENT
DTSTART;TZID=America/New_York:20251014T100000
DTEND;TZID=America/New_York:20251014T110000
DTSTAMP:20260424T040830
CREATED:20250925T214413Z
LAST-MODIFIED:20250927T165721Z
UID:28320-1760436000-1760439600@www.bilingualelibrary.org
SUMMARY:🟡 AI Technology Skills (Academic AI & Tech)
DESCRIPTION:Professor Aida UlloaClass focus: Learn how to use Academic AI and technology skills.Live class on Zoom.Zoom Meeting ID: 844 8110 6376  |  Passcode: 2025Join ZoomRegisterA certificate will be given for each workshop with 90% attendance.
URL:https://www.bilingualelibrary.org/es/classes/%f0%9f%9f%a1-ai-technology-skills-academic-ai-tech-4/
END:VEVENT
BEGIN:VEVENT
DTSTART;TZID=America/New_York:20251015T100000
DTEND;TZID=America/New_York:20251015T110000
DTSTAMP:20260424T040830
CREATED:20250925T214427Z
LAST-MODIFIED:20250927T165735Z
UID:28321-1760522400-1760526000@www.bilingualelibrary.org
SUMMARY:🟡 Reading & E-Games Bilingual Club
DESCRIPTION:Professor Aida UlloaClass focus: Reading Bilingual Stories Workshop + UHD E‑Games Bilingual Workshop.Live class on Zoom.Zoom Meeting ID: 844 8110 6376  |  Passcode: 2025Join ZoomRegisterA certificate will be given for each workshop with 90% attendance.
URL:https://www.bilingualelibrary.org/es/classes/%f0%9f%9f%a1-reading-e-games-bilingual-club-4/
END:VEVENT
BEGIN:VEVENT
DTSTART;VALUE=DATE:20251016
DTEND;VALUE=DATE:20251017
DTSTAMP:20260424T040830
CREATED:20250927T163615Z
LAST-MODIFIED:20250927T165735Z
UID:28814-1760572800-1760659199@www.bilingualelibrary.org
SUMMARY:🟡 Reading Strategies: Reading Comprehension
DESCRIPTION:Professor Aida UlloaClass focus: Reading Comprehension.Weekly session via our YouTube Channel.Learn at your own pace.Watch on YouTubeRegisterA certificate will be given for each workshop with 90% attendance.
URL:https://www.bilingualelibrary.org/es/classes/%f0%9f%9f%a1-reading-strategies-reading-comprehension-15/
END:VEVENT
BEGIN:VEVENT
DTSTART;TZID=America/New_York:20251021T100000
DTEND;TZID=America/New_York:20251021T110000
DTSTAMP:20260424T040830
CREATED:20250925T214428Z
LAST-MODIFIED:20250927T165735Z
UID:28323-1761040800-1761044400@www.bilingualelibrary.org
SUMMARY:🟡 AI Technology Skills (Academic AI & Tech)
DESCRIPTION:Professor Aida UlloaClass focus: Learn how to use Academic AI and technology skills.Live class on Zoom.Zoom Meeting ID: 844 8110 6376  |  Passcode: 2025Join ZoomRegisterA certificate will be given for each workshop with 90% attendance.
URL:https://www.bilingualelibrary.org/es/classes/%f0%9f%9f%a1-ai-technology-skills-academic-ai-tech-5/
END:VEVENT
BEGIN:VEVENT
DTSTART;TZID=America/New_York:20251022T100000
DTEND;TZID=America/New_York:20251022T110000
DTSTAMP:20260424T040830
CREATED:20250925T214428Z
LAST-MODIFIED:20250927T165735Z
UID:28324-1761127200-1761130800@www.bilingualelibrary.org
SUMMARY:🟡 Reading & E-Games Bilingual Club
DESCRIPTION:Professor Aida UlloaClass focus: Reading Bilingual Stories Workshop + UHD E‑Games Bilingual Workshop.Live class on Zoom.Zoom Meeting ID: 844 8110 6376  |  Passcode: 2025Join ZoomRegisterA certificate will be given for each workshop with 90% attendance.
URL:https://www.bilingualelibrary.org/es/classes/%f0%9f%9f%a1-reading-e-games-bilingual-club-5/
END:VEVENT
BEGIN:VEVENT
DTSTART;VALUE=DATE:20251023
DTEND;VALUE=DATE:20251024
DTSTAMP:20260424T040830
CREATED:20250927T163615Z
LAST-MODIFIED:20250927T165735Z
UID:28815-1761177600-1761263999@www.bilingualelibrary.org
SUMMARY:🟡 Reading Strategies: Reading Comprehension
DESCRIPTION:Professor Aida UlloaClass focus: Reading Comprehension.Weekly session via our YouTube Channel.Learn at your own pace.Watch on YouTubeRegisterA certificate will be given for each workshop with 90% attendance.
URL:https://www.bilingualelibrary.org/es/classes/%f0%9f%9f%a1-reading-strategies-reading-comprehension-16/
END:VEVENT
BEGIN:VEVENT
DTSTART;TZID=America/New_York:20251028T100000
DTEND;TZID=America/New_York:20251028T110000
DTSTAMP:20260424T040830
CREATED:20250925T214527Z
LAST-MODIFIED:20250927T165836Z
UID:28326-1761645600-1761649200@www.bilingualelibrary.org
SUMMARY:🟡 AI Technology Skills (Academic AI & Tech)
DESCRIPTION:Professor Aida UlloaClass focus: Learn how to use Academic AI and technology skills.Live class on Zoom.Zoom Meeting ID: 844 8110 6376  |  Passcode: 2025Join ZoomRegisterA certificate will be given for each workshop with 90% attendance.
URL:https://www.bilingualelibrary.org/es/classes/%f0%9f%9f%a1-ai-technology-skills-academic-ai-tech-6/
END:VEVENT
BEGIN:VEVENT
DTSTART;TZID=America/New_York:20251028T110000
DTEND;TZID=America/New_York:20251028T130000
DTSTAMP:20260424T040830
CREATED:20251028T074948Z
LAST-MODIFIED:20251028T074948Z
UID:29411-1761649200-1761656400@www.bilingualelibrary.org
SUMMARY:🔴 Learn English and Technology for Spanish Speakers
DESCRIPTION:Hybrid class (Zoom + In-person) \n🟦 Join on Zoom: https://uhd.zoom.us/j/3258997851 \nMeeting ID: 3258997851   |   Passcode: 2024 \n\n\n  Learn English and Technology for Spanish Speakers\n  Professor Sheyla Rodriguez\n  Description: Practice everyday English while learning computer\, Zoom\, and basic software skills in a live\, interactive class. No prior experience required.\n  Live workshop on Zoom.\n  Zoom  3258997851  |  2024\n  Register\n  A certificate will be given for each workshop with 90% attendance.
URL:https://www.bilingualelibrary.org/es/classes/%f0%9f%94%b4-learn-english-and-technology-for-spanish-speakers-12/
CATEGORIES:English Class
END:VEVENT
BEGIN:VEVENT
DTSTART;TZID=America/New_York:20251029T100000
DTEND;TZID=America/New_York:20251029T110000
DTSTAMP:20260424T040830
CREATED:20250925T214527Z
LAST-MODIFIED:20250927T165836Z
UID:28327-1761732000-1761735600@www.bilingualelibrary.org
SUMMARY:🟡 Reading & E-Games Bilingual Club
DESCRIPTION:Professor Aida UlloaClass focus: Reading Bilingual Stories Workshop + UHD E‑Games Bilingual Workshop.Live class on Zoom.Zoom Meeting ID: 844 8110 6376  |  Passcode: 2025Join ZoomRegisterA certificate will be given for each workshop with 90% attendance.
URL:https://www.bilingualelibrary.org/es/classes/%f0%9f%9f%a1-reading-e-games-bilingual-club-6/
END:VEVENT
BEGIN:VEVENT
DTSTART;TZID=America/New_York:20251029T150000
DTEND;TZID=America/New_York:20251029T170000
DTSTAMP:20260424T040830
CREATED:20251010T120250Z
LAST-MODIFIED:20251028T075313Z
UID:29098-1761750000-1761757200@www.bilingualelibrary.org
SUMMARY:🔵 Learn Spanish and Technology for English Speakers
DESCRIPTION:Video class (pre-recorded) \n▶ Watch on YouTube: https://www.youtube.com/@E-LibraryUHD \nNote: No Zoom — pre-recorded video. \n\n\n  Learn Spanish and Technology for English Speakers\n  Professor Marina Villarino (video; no Zoom)\n  Description: A pre-recorded lesson covering computer basics and helpful apps for Spanish learners. Watch at your own pace and revisit any time.\n  Register\n  A certificate will be given for each workshop with 90% attendance.
URL:https://www.bilingualelibrary.org/es/classes/%f0%9f%94%b5-discover-and-learn-english-in-the-uhd-bilingual-library-9/
CATEGORIES:Spanish Class
END:VEVENT
BEGIN:VEVENT
DTSTART;TZID=America/New_York:20251029T183000
DTEND;TZID=America/New_York:20251029T200000
DTSTAMP:20260424T040830
CREATED:20251028T075313Z
LAST-MODIFIED:20251028T080930Z
UID:29416-1761762600-1761768000@www.bilingualelibrary.org
SUMMARY:🔵 Learn Spanish and Technology for English Speakers
DESCRIPTION:Hybrid class (Zoom + In-person) \n🟦 Join on Zoom: https://uhd.zoom.us/j/8323305272 \nMeeting ID: 8323305272   |   Passcode: 2023 \n\n\n  Learn English and Technology for Spanish Speakers\n  Professor Marina Villarino\n  Description: Live support to improve English communication while practicing computer and Zoom skills. Includes guided exercises and Q&A.\n  Live workshop on Zoom.\n  Zoom  8323305272  |  2023\n  Register\n  A certificate will be given for each workshop with 90% attendance.
URL:https://www.bilingualelibrary.org/es/classes/%f0%9f%94%b5-learn-english-and-technology-for-spanish-speakers/
CATEGORIES:Spanish Class
END:VEVENT
BEGIN:VEVENT
DTSTART;VALUE=DATE:20251030
DTEND;VALUE=DATE:20251031
DTSTAMP:20260424T040830
CREATED:20250927T163716Z
LAST-MODIFIED:20250927T165836Z
UID:28816-1761782400-1761868799@www.bilingualelibrary.org
SUMMARY:🟡 Reading Strategies: Reading Comprehension
DESCRIPTION:Professor Aida UlloaClass focus: Reading Comprehension.Weekly session via our YouTube Channel.Learn at your own pace.Watch on YouTubeRegisterA certificate will be given for each workshop with 90% attendance.
URL:https://www.bilingualelibrary.org/es/classes/%f0%9f%9f%a1-reading-strategies-reading-comprehension-17/
END:VEVENT
BEGIN:VEVENT
DTSTART;TZID=America/New_York:20251030T150000
DTEND;TZID=America/New_York:20251030T170000
DTSTAMP:20260424T040830
CREATED:20251010T130126Z
LAST-MODIFIED:20251028T074425Z
UID:29140-1761836400-1761843600@www.bilingualelibrary.org
SUMMARY:🔴 Learn English and Technology for Spanish Speakers
DESCRIPTION:Video class (pre-recorded) \n▶ Watch on YouTube: https://www.youtube.com/@E-LibraryUHD \nNote: No Zoom — pre-recorded video. \n\n\n  Learn English and Technology for Spanish Speakers\n  Professor Sheyla Rodriguez (video; no Zoom)\n  Description: A pre-recorded class for English learners covering computer fundamentals and useful everyday apps. Start any time and learn at your pace.\n  Register\n  A certificate will be given for each workshop with 90% attendance.
URL:https://www.bilingualelibrary.org/es/classes/%f0%9f%94%b4-basic-technology-skills-for-daily-life-24/
CATEGORIES:English Class
END:VEVENT
END:VCALENDAR