BEGIN:VCALENDAR
VERSION:2.0
PRODID:-//UHD Bilingual E-Library - ECPv6.15.17.1//NONSGML v1.0//EN
CALSCALE:GREGORIAN
METHOD:PUBLISH
X-WR-CALNAME:UHD Bilingual E-Library
X-ORIGINAL-URL:https://www.bilingualelibrary.org/es
X-WR-CALDESC:Eventos para UHD Bilingual E-Library
REFRESH-INTERVAL;VALUE=DURATION:PT1H
X-Robots-Tag:noindex
X-PUBLISHED-TTL:PT1H
BEGIN:VTIMEZONE
TZID:America/New_York
BEGIN:DAYLIGHT
TZOFFSETFROM:-0500
TZOFFSETTO:-0400
TZNAME:EDT
DTSTART:20240310T070000
END:DAYLIGHT
BEGIN:STANDARD
TZOFFSETFROM:-0400
TZOFFSETTO:-0500
TZNAME:EST
DTSTART:20241103T060000
END:STANDARD
BEGIN:DAYLIGHT
TZOFFSETFROM:-0500
TZOFFSETTO:-0400
TZNAME:EDT
DTSTART:20250309T070000
END:DAYLIGHT
BEGIN:STANDARD
TZOFFSETFROM:-0400
TZOFFSETTO:-0500
TZNAME:EST
DTSTART:20251102T060000
END:STANDARD
BEGIN:DAYLIGHT
TZOFFSETFROM:-0500
TZOFFSETTO:-0400
TZNAME:EDT
DTSTART:20260308T070000
END:DAYLIGHT
BEGIN:STANDARD
TZOFFSETFROM:-0400
TZOFFSETTO:-0500
TZNAME:EST
DTSTART:20261101T060000
END:STANDARD
END:VTIMEZONE
BEGIN:VEVENT
DTSTART;TZID=America/New_York:20251103T110000
DTEND;TZID=America/New_York:20251103T130000
DTSTAMP:20260424T024226
CREATED:20251010T120249Z
LAST-MODIFIED:20251028T075313Z
UID:29097-1762167600-1762174800@www.bilingualelibrary.org
SUMMARY:🔵 Learn Spanish and Technology for English Speakers
DESCRIPTION:Hybrid class (Zoom + In-person) \n🟦 Join on Zoom: https://uhd.zoom.us/j/8323305272 \nMeeting ID: 8323305272   |   Passcode: 2023 \n\n\n  Learn Spanish and Technology for English Speakers\n  Professor Marina Villarino\n  Description: Learn essential computer skills\, Zoom\, and basic programs while practicing Spanish in a supportive\, hands-on session. Ideal for beginners and returning learners.\n  Live workshop on Zoom.\n  Zoom  8323305272  |  2023\n  Register\n  A certificate will be given for each workshop with 90% attendance.
URL:https://www.bilingualelibrary.org/es/classes/%f0%9f%94%b5-discover-and-learn-english-in-the-uhd-bilingual-library-8/
CATEGORIES:Spanish Class
END:VEVENT
BEGIN:VEVENT
DTSTART;TZID=America/New_York:20251103T183000
DTEND;TZID=America/New_York:20251103T200000
DTSTAMP:20260424T024226
CREATED:20251010T120348Z
LAST-MODIFIED:20251028T075313Z
UID:29099-1762194600-1762200000@www.bilingualelibrary.org
SUMMARY:🔵 Learn Spanish and Technology for English Speakers
DESCRIPTION:Video class (pre-recorded) \n▶ Watch on YouTube: https://www.youtube.com/@E-LibraryUHD \nNote: No Zoom — pre-recorded video. \n\n\n  Learn Spanish and Technology for English Speakers\n  Professor Marina Villarino (video; no Zoom)\n  Description: A pre-recorded lesson covering computer basics and helpful apps for Spanish learners. Watch at your own pace and revisit any time.\n  Register\n  A certificate will be given for each workshop with 90% attendance.
URL:https://www.bilingualelibrary.org/es/classes/%f0%9f%94%b5-academic-and-creative-writing-with-ai-6/
CATEGORIES:Spanish Class
END:VEVENT
BEGIN:VEVENT
DTSTART;TZID=America/New_York:20251103T183000
DTEND;TZID=America/New_York:20251103T200000
DTSTAMP:20260424T024226
CREATED:20251028T074425Z
LAST-MODIFIED:20251028T074425Z
UID:29396-1762194600-1762200000@www.bilingualelibrary.org
SUMMARY:🔴 Learn English and Technology for Spanish Speakers
DESCRIPTION:Hybrid class (Zoom + In-person) \n🟦 Join on Zoom: https://uhd.zoom.us/j/3258997851 \nMeeting ID: 3258997851   |   Passcode: 2024 \n\n\n  Learn English and Technology for Spanish Speakers\n  Professor Sheyla Rodriguez\n  Description: Practice everyday English while learning computer\, Zoom\, and basic software skills in a live\, interactive class. No prior experience required.\n  Live workshop on Zoom.\n  Zoom  3258997851  |  2024\n  Register\n  A certificate will be given for each workshop with 90% attendance.
URL:https://www.bilingualelibrary.org/es/classes/%f0%9f%94%b4-learn-english-and-technology-for-spanish-speakers/
CATEGORIES:English Class
END:VEVENT
BEGIN:VEVENT
DTSTART;TZID=America/New_York:20251104T100000
DTEND;TZID=America/New_York:20251104T110000
DTSTAMP:20260424T024226
CREATED:20250925T214528Z
LAST-MODIFIED:20250927T165836Z
UID:28329-1762250400-1762254000@www.bilingualelibrary.org
SUMMARY:🟡 AI Technology Skills (Academic AI & Tech)
DESCRIPTION:Professor Aida UlloaClass focus: Learn how to use Academic AI and technology skills.Live class on Zoom.Zoom Meeting ID: 844 8110 6376  |  Passcode: 2025Join ZoomRegisterA certificate will be given for each workshop with 90% attendance.
URL:https://www.bilingualelibrary.org/es/classes/%f0%9f%9f%a1-ai-technology-skills-academic-ai-tech-7/
END:VEVENT
BEGIN:VEVENT
DTSTART;TZID=America/New_York:20251104T110000
DTEND;TZID=America/New_York:20251104T130000
DTSTAMP:20260424T024226
CREATED:20251010T130126Z
LAST-MODIFIED:20251028T074425Z
UID:29141-1762254000-1762261200@www.bilingualelibrary.org
SUMMARY:🔴 Learn English and Technology for Spanish Speakers
DESCRIPTION:Hybrid class (Zoom + In-person) \n🟦 Join on Zoom: https://uhd.zoom.us/j/3258997851 \nMeeting ID: 3258997851   |   Passcode: 2024 \n\n\n  Learn English and Technology for Spanish Speakers\n  Professor Sheyla Rodriguez\n  Description: Practice everyday English while learning computer\, Zoom\, and basic software skills in a live\, interactive class. No prior experience required.\n  Live workshop on Zoom.\n  Zoom  3258997851  |  2024\n  Register\n  A certificate will be given for each workshop with 90% attendance.
URL:https://www.bilingualelibrary.org/es/classes/%f0%9f%94%b4-discover-and-learn-spanish-in-the-uhd-e%e2%80%91library-7/
CATEGORIES:English Class
END:VEVENT
BEGIN:VEVENT
DTSTART;TZID=America/New_York:20251105T100000
DTEND;TZID=America/New_York:20251105T110000
DTSTAMP:20260424T024226
CREATED:20250925T214529Z
LAST-MODIFIED:20250927T165836Z
UID:28330-1762336800-1762340400@www.bilingualelibrary.org
SUMMARY:🟡 Reading & E-Games Bilingual Club
DESCRIPTION:Professor Aida UlloaClass focus: Reading Bilingual Stories Workshop + UHD E‑Games Bilingual Workshop.Live class on Zoom.Zoom Meeting ID: 844 8110 6376  |  Passcode: 2025Join ZoomRegisterA certificate will be given for each workshop with 90% attendance.
URL:https://www.bilingualelibrary.org/es/classes/%f0%9f%9f%a1-reading-e-games-bilingual-club-7/
END:VEVENT
BEGIN:VEVENT
DTSTART;TZID=America/New_York:20251105T150000
DTEND;TZID=America/New_York:20251105T170000
DTSTAMP:20260424T024226
CREATED:20251010T120349Z
LAST-MODIFIED:20251028T075314Z
UID:29101-1762354800-1762362000@www.bilingualelibrary.org
SUMMARY:🔵 Learn Spanish and Technology for English Speakers
DESCRIPTION:Video class (pre-recorded) \n▶ Watch on YouTube: https://www.youtube.com/@E-LibraryUHD \nNote: No Zoom — pre-recorded video. \n\n\n  Learn Spanish and Technology for English Speakers\n  Professor Marina Villarino (video; no Zoom)\n  Description: A pre-recorded lesson covering computer basics and helpful apps for Spanish learners. Watch at your own pace and revisit any time.\n  Register\n  A certificate will be given for each workshop with 90% attendance.
URL:https://www.bilingualelibrary.org/es/classes/%f0%9f%94%b5-academic-and-creative-writing-with-ai-7/
CATEGORIES:Spanish Class
END:VEVENT
BEGIN:VEVENT
DTSTART;TZID=America/New_York:20251105T183000
DTEND;TZID=America/New_York:20251105T200000
DTSTAMP:20260424T024226
CREATED:20251028T075316Z
LAST-MODIFIED:20251028T080919Z
UID:29420-1762367400-1762372800@www.bilingualelibrary.org
SUMMARY:🔵 Learn Spanish and Technology for English Speakers
DESCRIPTION:Hybrid class (Zoom + In-person) \n🟦 Join on Zoom: https://uhd.zoom.us/j/8323305272 \nMeeting ID: 8323305272   |   Passcode: 2023 \n\n\n  Learn English and Technology for Spanish Speakers\n  Professor Marina Villarino\n  Description: Live support to improve English communication while practicing computer and Zoom skills. Includes guided exercises and Q&A.\n  Live workshop on Zoom.\n  Zoom  8323305272  |  2023\n  Register\n  A certificate will be given for each workshop with 90% attendance.
URL:https://www.bilingualelibrary.org/es/classes/%f0%9f%94%b5-learn-english-and-technology-for-spanish-speakers-2/
CATEGORIES:Spanish Class
END:VEVENT
BEGIN:VEVENT
DTSTART;VALUE=DATE:20251106
DTEND;VALUE=DATE:20251107
DTSTAMP:20260424T024226
CREATED:20250927T163916Z
LAST-MODIFIED:20250927T165935Z
UID:28817-1762387200-1762473599@www.bilingualelibrary.org
SUMMARY:🟡 Reading Strategies: Reading Comprehension
DESCRIPTION:Professor Aida UlloaClass focus: Reading Comprehension.Weekly session via our YouTube Channel.Learn at your own pace.Watch on YouTubeRegisterA certificate will be given for each workshop with 90% attendance.
URL:https://www.bilingualelibrary.org/es/classes/%f0%9f%9f%a1-reading-strategies-reading-comprehension-18/
END:VEVENT
BEGIN:VEVENT
DTSTART;TZID=America/New_York:20251106T150000
DTEND;TZID=America/New_York:20251106T170000
DTSTAMP:20260424T024226
CREATED:20251010T130127Z
LAST-MODIFIED:20251028T074426Z
UID:29142-1762441200-1762448400@www.bilingualelibrary.org
SUMMARY:🔴 Learn English and Technology for Spanish Speakers
DESCRIPTION:Video class (pre-recorded) \n▶ Watch on YouTube: https://www.youtube.com/@E-LibraryUHD \nNote: No Zoom — pre-recorded video. \n\n\n  Learn English and Technology for Spanish Speakers\n  Professor Sheyla Rodriguez (video; no Zoom)\n  Description: A pre-recorded class for English learners covering computer fundamentals and useful everyday apps. Start any time and learn at your pace.\n  Register\n  A certificate will be given for each workshop with 90% attendance.
URL:https://www.bilingualelibrary.org/es/classes/%f0%9f%94%b4-discover-and-learn-spanish-in-the-uhd-e%e2%80%91library-8/
CATEGORIES:English Class
END:VEVENT
BEGIN:VEVENT
DTSTART;TZID=America/New_York:20251110T110000
DTEND;TZID=America/New_York:20251110T130000
DTSTAMP:20260424T024226
CREATED:20251010T120350Z
LAST-MODIFIED:20251028T075316Z
UID:29103-1762772400-1762779600@www.bilingualelibrary.org
SUMMARY:🔵 Learn Spanish and Technology for English Speakers
DESCRIPTION:Hybrid class (Zoom + In-person) \n🟦 Join on Zoom: https://uhd.zoom.us/j/8323305272 \nMeeting ID: 8323305272   |   Passcode: 2023 \n\n\n  Learn Spanish and Technology for English Speakers\n  Professor Marina Villarino\n  Description: Learn essential computer skills\, Zoom\, and basic programs while practicing Spanish in a supportive\, hands-on session. Ideal for beginners and returning learners.\n  Live workshop on Zoom.\n  Zoom  8323305272  |  2023\n  Register\n  A certificate will be given for each workshop with 90% attendance.
URL:https://www.bilingualelibrary.org/es/classes/%f0%9f%94%b5-academic-and-creative-writing-with-ai-9/
CATEGORIES:Spanish Class
END:VEVENT
BEGIN:VEVENT
DTSTART;TZID=America/New_York:20251110T183000
DTEND;TZID=America/New_York:20251110T200000
DTSTAMP:20260424T024226
CREATED:20251010T120349Z
LAST-MODIFIED:20251028T075317Z
UID:29102-1762799400-1762804800@www.bilingualelibrary.org
SUMMARY:🔵 Learn Spanish and Technology for English Speakers
DESCRIPTION:Video class (pre-recorded) \n▶ Watch on YouTube: https://www.youtube.com/@E-LibraryUHD \nNote: No Zoom — pre-recorded video. \n\n\n  Learn Spanish and Technology for English Speakers\n  Professor Marina Villarino (video; no Zoom)\n  Description: A pre-recorded lesson covering computer basics and helpful apps for Spanish learners. Watch at your own pace and revisit any time.\n  Register\n  A certificate will be given for each workshop with 90% attendance.
URL:https://www.bilingualelibrary.org/es/classes/%f0%9f%94%b5-academic-and-creative-writing-with-ai-8/
CATEGORIES:Spanish Class
END:VEVENT
BEGIN:VEVENT
DTSTART;TZID=America/New_York:20251110T183000
DTEND;TZID=America/New_York:20251110T200000
DTSTAMP:20260424T024226
CREATED:20251028T074426Z
LAST-MODIFIED:20251028T074426Z
UID:29399-1762799400-1762804800@www.bilingualelibrary.org
SUMMARY:🔴 Learn English and Technology for Spanish Speakers
DESCRIPTION:Hybrid class (Zoom + In-person) \n🟦 Join on Zoom: https://uhd.zoom.us/j/3258997851 \nMeeting ID: 3258997851   |   Passcode: 2024 \n\n\n  Learn English and Technology for Spanish Speakers\n  Professor Sheyla Rodriguez\n  Description: Practice everyday English while learning computer\, Zoom\, and basic software skills in a live\, interactive class. No prior experience required.\n  Live workshop on Zoom.\n  Zoom  3258997851  |  2024\n  Register\n  A certificate will be given for each workshop with 90% attendance.
URL:https://www.bilingualelibrary.org/es/classes/%f0%9f%94%b4-learn-english-and-technology-for-spanish-speakers-2/
CATEGORIES:English Class
END:VEVENT
BEGIN:VEVENT
DTSTART;TZID=America/New_York:20251111T100000
DTEND;TZID=America/New_York:20251111T110000
DTSTAMP:20260424T024226
CREATED:20250925T214627Z
LAST-MODIFIED:20250927T165936Z
UID:28332-1762855200-1762858800@www.bilingualelibrary.org
SUMMARY:🟡 AI Technology Skills (Academic AI & Tech)
DESCRIPTION:Professor Aida UlloaClass focus: Learn how to use Academic AI and technology skills.Live class on Zoom.Zoom Meeting ID: 844 8110 6376  |  Passcode: 2025Join ZoomRegisterA certificate will be given for each workshop with 90% attendance.
URL:https://www.bilingualelibrary.org/es/classes/%f0%9f%9f%a1-ai-technology-skills-academic-ai-tech-8/
END:VEVENT
BEGIN:VEVENT
DTSTART;TZID=America/New_York:20251111T110000
DTEND;TZID=America/New_York:20251111T130000
DTSTAMP:20260424T024226
CREATED:20251010T130127Z
LAST-MODIFIED:20251028T074428Z
UID:29143-1762858800-1762866000@www.bilingualelibrary.org
SUMMARY:🔴 Learn English and Technology for Spanish Speakers
DESCRIPTION:Hybrid class (Zoom + In-person) \n🟦 Join on Zoom: https://uhd.zoom.us/j/3258997851 \nMeeting ID: 3258997851   |   Passcode: 2024 \n\n\n  Learn English and Technology for Spanish Speakers\n  Professor Sheyla Rodriguez\n  Description: Practice everyday English while learning computer\, Zoom\, and basic software skills in a live\, interactive class. No prior experience required.\n  Live workshop on Zoom.\n  Zoom  3258997851  |  2024\n  Register\n  A certificate will be given for each workshop with 90% attendance.
URL:https://www.bilingualelibrary.org/es/classes/%f0%9f%94%b4-discover-and-learn-spanish-in-the-uhd-e%e2%80%91library-9/
CATEGORIES:English Class
END:VEVENT
BEGIN:VEVENT
DTSTART;TZID=America/New_York:20251112T100000
DTEND;TZID=America/New_York:20251112T110000
DTSTAMP:20260424T024226
CREATED:20250925T214628Z
LAST-MODIFIED:20250927T165936Z
UID:28333-1762941600-1762945200@www.bilingualelibrary.org
SUMMARY:🟡 Reading & E-Games Bilingual Club
DESCRIPTION:Professor Aida UlloaClass focus: Reading Bilingual Stories Workshop + UHD E‑Games Bilingual Workshop.Live class on Zoom.Zoom Meeting ID: 844 8110 6376  |  Passcode: 2025Join ZoomRegisterA certificate will be given for each workshop with 90% attendance.
URL:https://www.bilingualelibrary.org/es/classes/%f0%9f%9f%a1-reading-e-games-bilingual-club-8/
END:VEVENT
BEGIN:VEVENT
DTSTART;TZID=America/New_York:20251112T150000
DTEND;TZID=America/New_York:20251112T170000
DTSTAMP:20260424T024226
CREATED:20251010T120448Z
LAST-MODIFIED:20251028T075317Z
UID:29104-1762959600-1762966800@www.bilingualelibrary.org
SUMMARY:🔵 Learn Spanish and Technology for English Speakers
DESCRIPTION:Video class (pre-recorded) \n▶ Watch on YouTube: https://www.youtube.com/@E-LibraryUHD \nNote: No Zoom — pre-recorded video. \n\n\n  Learn Spanish and Technology for English Speakers\n  Professor Marina Villarino (video; no Zoom)\n  Description: A pre-recorded lesson covering computer basics and helpful apps for Spanish learners. Watch at your own pace and revisit any time.\n  Register\n  A certificate will be given for each workshop with 90% attendance.
URL:https://www.bilingualelibrary.org/es/classes/%f0%9f%94%b5-academic-and-creative-writing-with-ai-10/
CATEGORIES:Spanish Class
END:VEVENT
BEGIN:VEVENT
DTSTART;TZID=America/New_York:20251112T183000
DTEND;TZID=America/New_York:20251112T200000
DTSTAMP:20260424T024226
CREATED:20251028T075317Z
LAST-MODIFIED:20251028T080907Z
UID:29424-1762972200-1762977600@www.bilingualelibrary.org
SUMMARY:🔵 Learn Spanish and Technology for English Speakers
DESCRIPTION:Hybrid class (Zoom + In-person) \n🟦 Join on Zoom: https://uhd.zoom.us/j/8323305272 \nMeeting ID: 8323305272   |   Passcode: 2023 \n\n\n  Learn English and Technology for Spanish Speakers\n  Professor Marina Villarino\n  Description: Live support to improve English communication while practicing computer and Zoom skills. Includes guided exercises and Q&A.\n  Live workshop on Zoom.\n  Zoom  8323305272  |  2023\n  Register\n  A certificate will be given for each workshop with 90% attendance.
URL:https://www.bilingualelibrary.org/es/classes/%f0%9f%94%b5-learn-english-and-technology-for-spanish-speakers-3/
CATEGORIES:Spanish Class
END:VEVENT
BEGIN:VEVENT
DTSTART;VALUE=DATE:20251113
DTEND;VALUE=DATE:20251114
DTSTAMP:20260424T024226
CREATED:20250927T163916Z
LAST-MODIFIED:20250927T165936Z
UID:28818-1762992000-1763078399@www.bilingualelibrary.org
SUMMARY:🟡 Reading Strategies: Reading Comprehension
DESCRIPTION:Professor Aida UlloaClass focus: Reading Comprehension.Weekly session via our YouTube Channel.Learn at your own pace.Watch on YouTubeRegisterA certificate will be given for each workshop with 90% attendance.
URL:https://www.bilingualelibrary.org/es/classes/%f0%9f%9f%a1-reading-strategies-reading-comprehension-19/
END:VEVENT
BEGIN:VEVENT
DTSTART;TZID=America/New_York:20251113T150000
DTEND;TZID=America/New_York:20251113T170000
DTSTAMP:20260424T024226
CREATED:20251010T130225Z
LAST-MODIFIED:20251028T074429Z
UID:29144-1763046000-1763053200@www.bilingualelibrary.org
SUMMARY:🔴 Learn English and Technology for Spanish Speakers
DESCRIPTION:Video class (pre-recorded) \n▶ Watch on YouTube: https://www.youtube.com/@E-LibraryUHD \nNote: No Zoom — pre-recorded video. \n\n\n  Learn English and Technology for Spanish Speakers\n  Professor Sheyla Rodriguez (video; no Zoom)\n  Description: A pre-recorded class for English learners covering computer fundamentals and useful everyday apps. Start any time and learn at your pace.\n  Register\n  A certificate will be given for each workshop with 90% attendance.
URL:https://www.bilingualelibrary.org/es/classes/%f0%9f%94%b4-discover-and-learn-spanish-in-the-uhd-e%e2%80%91library-10/
CATEGORIES:English Class
END:VEVENT
BEGIN:VEVENT
DTSTART;TZID=America/New_York:20251117T110000
DTEND;TZID=America/New_York:20251117T130000
DTSTAMP:20260424T024226
CREATED:20251028T075331Z
LAST-MODIFIED:20251028T075331Z
UID:29425-1763377200-1763384400@www.bilingualelibrary.org
SUMMARY:🔵 Learn Spanish and Technology for English Speakers
DESCRIPTION:Hybrid class (Zoom + In-person) \n🟦 Join on Zoom: https://uhd.zoom.us/j/8323305272 \nMeeting ID: 8323305272   |   Passcode: 2023 \n\n\n  Learn Spanish and Technology for English Speakers\n  Professor Marina Villarino\n  Description: Learn essential computer skills\, Zoom\, and basic programs while practicing Spanish in a supportive\, hands-on session. Ideal for beginners and returning learners.\n  Live workshop on Zoom.\n  Zoom  8323305272  |  2023\n  Register\n  A certificate will be given for each workshop with 90% attendance.
URL:https://www.bilingualelibrary.org/es/classes/%f0%9f%94%b5-learn-spanish-and-technology-for-english-speakers/
CATEGORIES:Spanish Class
END:VEVENT
BEGIN:VEVENT
DTSTART;TZID=America/New_York:20251117T183000
DTEND;TZID=America/New_York:20251117T200000
DTSTAMP:20260424T024226
CREATED:20251028T074429Z
LAST-MODIFIED:20251028T074429Z
UID:29402-1763404200-1763409600@www.bilingualelibrary.org
SUMMARY:🔴 Learn English and Technology for Spanish Speakers
DESCRIPTION:Hybrid class (Zoom + In-person) \n🟦 Join on Zoom: https://uhd.zoom.us/j/3258997851 \nMeeting ID: 3258997851   |   Passcode: 2024 \n\n\n  Learn English and Technology for Spanish Speakers\n  Professor Sheyla Rodriguez\n  Description: Practice everyday English while learning computer\, Zoom\, and basic software skills in a live\, interactive class. No prior experience required.\n  Live workshop on Zoom.\n  Zoom  3258997851  |  2024\n  Register\n  A certificate will be given for each workshop with 90% attendance.
URL:https://www.bilingualelibrary.org/es/classes/%f0%9f%94%b4-learn-english-and-technology-for-spanish-speakers-3/
CATEGORIES:English Class
END:VEVENT
BEGIN:VEVENT
DTSTART;TZID=America/New_York:20251117T183000
DTEND;TZID=America/New_York:20251117T200000
DTSTAMP:20260424T024226
CREATED:20251028T075332Z
LAST-MODIFIED:20251028T075332Z
UID:29426-1763404200-1763409600@www.bilingualelibrary.org
SUMMARY:🔵 Learn Spanish and Technology for English Speakers
DESCRIPTION:Video class (pre-recorded) \n▶ Watch on YouTube: https://www.youtube.com/@E-LibraryUHD \nNote: No Zoom — pre-recorded video. \n\n\n  Learn Spanish and Technology for English Speakers\n  Professor Marina Villarino (video; no Zoom)\n  Description: A pre-recorded lesson covering computer basics and helpful apps for Spanish learners. Watch at your own pace and revisit any time.\n  Register\n  A certificate will be given for each workshop with 90% attendance.
URL:https://www.bilingualelibrary.org/es/classes/%f0%9f%94%b5-learn-spanish-and-technology-for-english-speakers-2/
CATEGORIES:Spanish Class
END:VEVENT
BEGIN:VEVENT
DTSTART;TZID=America/New_York:20251118T100000
DTEND;TZID=America/New_York:20251118T110000
DTSTAMP:20260424T024226
CREATED:20250925T214629Z
LAST-MODIFIED:20250927T165936Z
UID:28335-1763460000-1763463600@www.bilingualelibrary.org
SUMMARY:🟡 AI Technology Skills (Academic AI & Tech)
DESCRIPTION:Professor Aida UlloaClass focus: Learn how to use Academic AI and technology skills.Live class on Zoom.Zoom Meeting ID: 844 8110 6376  |  Passcode: 2025Join ZoomRegisterA certificate will be given for each workshop with 90% attendance.
URL:https://www.bilingualelibrary.org/es/classes/%f0%9f%9f%a1-ai-technology-skills-academic-ai-tech-9/
END:VEVENT
BEGIN:VEVENT
DTSTART;TZID=America/New_York:20251118T110000
DTEND;TZID=America/New_York:20251118T130000
DTSTAMP:20260424T024226
CREATED:20251028T074429Z
LAST-MODIFIED:20251028T074429Z
UID:29403-1763463600-1763470800@www.bilingualelibrary.org
SUMMARY:🔴 Learn English and Technology for Spanish Speakers
DESCRIPTION:Hybrid class (Zoom + In-person) \n🟦 Join on Zoom: https://uhd.zoom.us/j/3258997851 \nMeeting ID: 3258997851   |   Passcode: 2024 \n\n\n  Learn English and Technology for Spanish Speakers\n  Professor Sheyla Rodriguez\n  Description: Practice everyday English while learning computer\, Zoom\, and basic software skills in a live\, interactive class. No prior experience required.\n  Live workshop on Zoom.\n  Zoom  3258997851  |  2024\n  Register\n  A certificate will be given for each workshop with 90% attendance.
URL:https://www.bilingualelibrary.org/es/classes/%f0%9f%94%b4-learn-english-and-technology-for-spanish-speakers-4/
CATEGORIES:English Class
END:VEVENT
BEGIN:VEVENT
DTSTART;TZID=America/New_York:20251119T100000
DTEND;TZID=America/New_York:20251119T110000
DTSTAMP:20260424T024226
CREATED:20250925T214727Z
LAST-MODIFIED:20250927T170036Z
UID:28336-1763546400-1763550000@www.bilingualelibrary.org
SUMMARY:🟡 Reading & E-Games Bilingual Club
DESCRIPTION:Professor Aida UlloaClass focus: Reading Bilingual Stories Workshop + UHD E‑Games Bilingual Workshop.Live class on Zoom.Zoom Meeting ID: 844 8110 6376  |  Passcode: 2025Join ZoomRegisterA certificate will be given for each workshop with 90% attendance.
URL:https://www.bilingualelibrary.org/es/classes/%f0%9f%9f%a1-reading-e-games-bilingual-club-9/
END:VEVENT
BEGIN:VEVENT
DTSTART;TZID=America/New_York:20251119T150000
DTEND;TZID=America/New_York:20251119T170000
DTSTAMP:20260424T024226
CREATED:20251028T075332Z
LAST-MODIFIED:20251028T075332Z
UID:29427-1763564400-1763571600@www.bilingualelibrary.org
SUMMARY:🔵 Learn Spanish and Technology for English Speakers
DESCRIPTION:Video class (pre-recorded) \n▶ Watch on YouTube: https://www.youtube.com/@E-LibraryUHD \nNote: No Zoom — pre-recorded video. \n\n\n  Learn Spanish and Technology for English Speakers\n  Professor Marina Villarino (video; no Zoom)\n  Description: A pre-recorded lesson covering computer basics and helpful apps for Spanish learners. Watch at your own pace and revisit any time.\n  Register\n  A certificate will be given for each workshop with 90% attendance.
URL:https://www.bilingualelibrary.org/es/classes/%f0%9f%94%b5-learn-spanish-and-technology-for-english-speakers-3/
CATEGORIES:Spanish Class
END:VEVENT
BEGIN:VEVENT
DTSTART;TZID=America/New_York:20251119T183000
DTEND;TZID=America/New_York:20251119T200000
DTSTAMP:20260424T024226
CREATED:20251028T075332Z
LAST-MODIFIED:20251028T080858Z
UID:29428-1763577000-1763582400@www.bilingualelibrary.org
SUMMARY:🔵 Learn Spanish and Technology for English Speakers
DESCRIPTION:Hybrid class (Zoom + In-person) \n🟦 Join on Zoom: https://uhd.zoom.us/j/8323305272 \nMeeting ID: 8323305272   |   Passcode: 2023 \n\n\n  Learn English and Technology for Spanish Speakers\n  Professor Marina Villarino\n  Description: Live support to improve English communication while practicing computer and Zoom skills. Includes guided exercises and Q&A.\n  Live workshop on Zoom.\n  Zoom  8323305272  |  2023\n  Register\n  A certificate will be given for each workshop with 90% attendance.
URL:https://www.bilingualelibrary.org/es/classes/%f0%9f%94%b5-learn-english-and-technology-for-spanish-speakers-4/
CATEGORIES:Spanish Class
END:VEVENT
BEGIN:VEVENT
DTSTART;VALUE=DATE:20251120
DTEND;VALUE=DATE:20251121
DTSTAMP:20260424T024226
CREATED:20250927T164116Z
LAST-MODIFIED:20250927T170036Z
UID:28819-1763596800-1763683199@www.bilingualelibrary.org
SUMMARY:🟡 Reading Strategies: Reading Comprehension
DESCRIPTION:Professor Aida UlloaClass focus: Reading Comprehension.Weekly session via our YouTube Channel.Learn at your own pace.Watch on YouTubeRegisterA certificate will be given for each workshop with 90% attendance.
URL:https://www.bilingualelibrary.org/es/classes/%f0%9f%9f%a1-reading-strategies-reading-comprehension-20/
END:VEVENT
BEGIN:VEVENT
DTSTART;TZID=America/New_York:20251120T150000
DTEND;TZID=America/New_York:20251120T170000
DTSTAMP:20260424T024226
CREATED:20251028T074429Z
LAST-MODIFIED:20251028T074429Z
UID:29404-1763650800-1763658000@www.bilingualelibrary.org
SUMMARY:🔴 Learn English and Technology for Spanish Speakers
DESCRIPTION:Video class (pre-recorded) \n▶ Watch on YouTube: https://www.youtube.com/@E-LibraryUHD \nNote: No Zoom — pre-recorded video. \n\n\n  Learn English and Technology for Spanish Speakers\n  Professor Sheyla Rodriguez (video; no Zoom)\n  Description: A pre-recorded class for English learners covering computer fundamentals and useful everyday apps. Start any time and learn at your pace.\n  Register\n  A certificate will be given for each workshop with 90% attendance.
URL:https://www.bilingualelibrary.org/es/classes/%f0%9f%94%b4-learn-english-and-technology-for-spanish-speakers-5/
CATEGORIES:English Class
END:VEVENT
END:VCALENDAR