BEGIN:VCALENDAR
VERSION:2.0
PRODID:-//UHD Bilingual E-Library - ECPv6.15.17.1//NONSGML v1.0//EN
CALSCALE:GREGORIAN
METHOD:PUBLISH
X-WR-CALNAME:UHD Bilingual E-Library
X-ORIGINAL-URL:https://www.bilingualelibrary.org/es
X-WR-CALDESC:Eventos para UHD Bilingual E-Library
REFRESH-INTERVAL;VALUE=DURATION:PT1H
X-Robots-Tag:noindex
X-PUBLISHED-TTL:PT1H
BEGIN:VTIMEZONE
TZID:America/New_York
BEGIN:DAYLIGHT
TZOFFSETFROM:-0500
TZOFFSETTO:-0400
TZNAME:EDT
DTSTART:20250309T070000
END:DAYLIGHT
BEGIN:STANDARD
TZOFFSETFROM:-0400
TZOFFSETTO:-0500
TZNAME:EST
DTSTART:20251102T060000
END:STANDARD
BEGIN:DAYLIGHT
TZOFFSETFROM:-0500
TZOFFSETTO:-0400
TZNAME:EDT
DTSTART:20260308T070000
END:DAYLIGHT
BEGIN:STANDARD
TZOFFSETFROM:-0400
TZOFFSETTO:-0500
TZNAME:EST
DTSTART:20261101T060000
END:STANDARD
BEGIN:DAYLIGHT
TZOFFSETFROM:-0500
TZOFFSETTO:-0400
TZNAME:EDT
DTSTART:20270314T070000
END:DAYLIGHT
BEGIN:STANDARD
TZOFFSETFROM:-0400
TZOFFSETTO:-0500
TZNAME:EST
DTSTART:20271107T060000
END:STANDARD
END:VTIMEZONE
BEGIN:VEVENT
DTSTART;VALUE=DATE:20260707
DTEND;VALUE=DATE:20260708
DTSTAMP:20260423T230232
CREATED:20260214T011318Z
LAST-MODIFIED:20260314T135743Z
UID:30054-1783382400-1783468799@www.bilingualelibrary.org
SUMMARY:Class #10: Questions Before\, During & After Reading
DESCRIPTION:Professor: Aida Ulloa \nObjective: Techniques to improve fluency and comprehension. \n\n\nWatch on YouTube\n\n \nNote: These classes were selected from the library archive and may not follow a specific sequence.
URL:https://www.bilingualelibrary.org/es/classes/class-10-questions-before-during-after-reading-2/
CATEGORIES:Spanish Class
END:VEVENT
BEGIN:VEVENT
DTSTART;VALUE=DATE:20260714
DTEND;VALUE=DATE:20260715
DTSTAMP:20260423T230232
CREATED:20260314T121012Z
LAST-MODIFIED:20260314T125233Z
UID:30185-1783987200-1784073599@www.bilingualelibrary.org
SUMMARY:Reading Club #10: Insects and Activities
DESCRIPTION:Professor: Aida Ulloa \nObjective: Practice bilingual reading. \nWatch on YouTube \nNote: These classes were selected from the library archive and may not follow a specific sequence.
URL:https://www.bilingualelibrary.org/es/classes/reading-club-10-insects-and-activities/
END:VEVENT
BEGIN:VEVENT
DTSTART;VALUE=DATE:20260728
DTEND;VALUE=DATE:20260729
DTSTAMP:20260423T230232
CREATED:20260314T121013Z
LAST-MODIFIED:20260314T125233Z
UID:30186-1785196800-1785283199@www.bilingualelibrary.org
SUMMARY:AI #1: ChatGPT and Google
DESCRIPTION:Professor: Aida Ulloa \nObjective: Use Artificial Intelligence in the academic environment. \nWatch on YouTube \nNote: These classes were selected from the library archive and may not follow a specific sequence.
URL:https://www.bilingualelibrary.org/es/classes/ai-1-chatgpt-and-google/
END:VEVENT
END:VCALENDAR